BEGIN:VCALENDAR
VERSION:2.0
PRODID:-//PROBST WEIN - ECPv6.15.17.1//NONSGML v1.0//EN
CALSCALE:GREGORIAN
METHOD:PUBLISH
X-WR-CALNAME:PROBST WEIN
X-ORIGINAL-URL:https://probst-wein.de
X-WR-CALDESC:Veranstaltungen für PROBST WEIN
REFRESH-INTERVAL;VALUE=DURATION:PT1H
X-Robots-Tag:noindex
X-PUBLISHED-TTL:PT1H
BEGIN:VTIMEZONE
TZID:Europe/Berlin
BEGIN:DAYLIGHT
TZOFFSETFROM:+0100
TZOFFSETTO:+0200
TZNAME:CEST
DTSTART:20240331T010000
END:DAYLIGHT
BEGIN:STANDARD
TZOFFSETFROM:+0200
TZOFFSETTO:+0100
TZNAME:CET
DTSTART:20241027T010000
END:STANDARD
BEGIN:DAYLIGHT
TZOFFSETFROM:+0100
TZOFFSETTO:+0200
TZNAME:CEST
DTSTART:20250330T010000
END:DAYLIGHT
BEGIN:STANDARD
TZOFFSETFROM:+0200
TZOFFSETTO:+0100
TZNAME:CET
DTSTART:20251026T010000
END:STANDARD
BEGIN:DAYLIGHT
TZOFFSETFROM:+0100
TZOFFSETTO:+0200
TZNAME:CEST
DTSTART:20260329T010000
END:DAYLIGHT
BEGIN:STANDARD
TZOFFSETFROM:+0200
TZOFFSETTO:+0100
TZNAME:CET
DTSTART:20261025T010000
END:STANDARD
END:VTIMEZONE
BEGIN:VEVENT
DTSTART;TZID=Europe/Berlin:20251210T193000
DTEND;TZID=Europe/Berlin:20251210T201500
DTSTAMP:20260421T210339
CREATED:20251204T115122Z
LAST-MODIFIED:20251207T202137Z
UID:8899-1765395000-1765397700@probst-wein.de
SUMMARY:PROBST-WEIN Kamin-Talk: Finde deinen Lieblingswein und das perfekte Weihnachtsgeschenk!
DESCRIPTION:Das genussvolle Kamin-Talk-Erlebnis – home to home – voller Geschmack & Stimmung!\nIch lade euch herzlich – und ganz entspannt von zuhause aus – zu einem kurzen\, persönlichen Live-Einblick in meine Veranstaltungs- und Verkostungsräume ein. Ich nehme euch mit durch den vielfältigen Geschmacksregenbogen meiner PROBST WEINE. \n \nIn der ca. 45-minütigen Zoom-Session stelle ich euch meine Rebsorten und Weinstile vor\, beantworte eure Fragen und unterstütze euch dabei\, den perfekt passenden PROBST-Wein zu finden – sei es als besonderes Geschenk oder einfach für euch selbst. \nWelcher Wein ist das richtige Geschenk?\nTrocken\, halbtrocken\, feinherb oder edelsüß? Oder soll es vielleicht ein spritziger PROBST-Secco oder ein feiner PROBST-Winzersekt aus Chardonnay & Pinot Meunier werden? \nWozu soll der Wein passen?\nZum Essen? Für einen gemütlichen Kaminabend? Wird er verschenkt – oder gemeinsam genossen? \nWie besonders darf es sein?\nSonderetikett-Edition oder klassisches PROBST-Design? Oder wünscht ihr ein exklusives eigenes Etikett? \nDurch das persönliche Gespräch wird es viel leichter\, den passenden PROBST-Wein für euch oder den Anlass zu finden. \nGanz wichtig: Alle unsere Weine trinke ich selbst sehr gerne – welcher mein Lieblingswein ist\, hängt für mich immer vom Moment ab: Wann\, wo\, wozu\, mit wem und wie es mir gerade geht. \nZur Anmeldung:\nSchreibt mir einfach eine E-Mail an post@probst-wein.de und ich sende euch den Zoom-Link zu. \n \nFalls ihr an diesem Termin nicht dabei sein könnt: Kein Problem! Meldet euch gerne direkt bei mir – wir können jederzeit einen persönlichen Telefontermin vereinbaren.\nOder kommt zu meinen Veranstaltungen im Dezember nach Markt Nordheim. Dort habt ihr die wunderbare Möglichkeit\, euch einmal quer durch alle Weinstile zu probieren – vom fruchtig-frischen Weißwein bis zum kräftigen\, lange nachklingenden Rotwein. \nIch freue mich sehr auf unsere weinseelige Begegnung – verbunden Home-to-Home auch über die Entfernung oder persönlich vor Ort 🍇🥂. \nZur Anmeldung\nSchreibt mir einfach eine E-Mail an post@probst-wein.de und ich sende euch den Zoom-Link zu.
URL:https://probst-wein.de/event/probst-wein-kamin-talk-finde-deinen-lieblingswein-und-das-perfekte-weihnachtsgeschenk/
LOCATION:PROBST WEIN\, MARKT NORDHEIM 95A\, MARKT NORDHEIM\, 91478\, Germany
CATEGORIES:Home-to-Home,WEINfeeling-Events
ATTACH;FMTTYPE=image/jpeg:https://probst-wein.de/wp-content/uploads/2025/12/2023_Probst_Wein_Portrait-109-scaled-e1764849338498.jpg
ORGANIZER;CN="PROBST WEIN":MAILTO:post@probst-wein.de
END:VEVENT
END:VCALENDAR