BEGIN:VCALENDAR
VERSION:2.0
PRODID:-//PROBST WEIN - ECPv6.15.17.1//NONSGML v1.0//EN
CALSCALE:GREGORIAN
METHOD:PUBLISH
X-WR-CALNAME:PROBST WEIN
X-ORIGINAL-URL:https://probst-wein.de
X-WR-CALDESC:Veranstaltungen für PROBST WEIN
REFRESH-INTERVAL;VALUE=DURATION:PT1H
X-Robots-Tag:noindex
X-PUBLISHED-TTL:PT1H
BEGIN:VTIMEZONE
TZID:Europe/Berlin
BEGIN:DAYLIGHT
TZOFFSETFROM:+0100
TZOFFSETTO:+0200
TZNAME:CEST
DTSTART:20250330T010000
END:DAYLIGHT
BEGIN:STANDARD
TZOFFSETFROM:+0200
TZOFFSETTO:+0100
TZNAME:CET
DTSTART:20251026T010000
END:STANDARD
BEGIN:DAYLIGHT
TZOFFSETFROM:+0100
TZOFFSETTO:+0200
TZNAME:CEST
DTSTART:20260329T010000
END:DAYLIGHT
BEGIN:STANDARD
TZOFFSETFROM:+0200
TZOFFSETTO:+0100
TZNAME:CET
DTSTART:20261025T010000
END:STANDARD
BEGIN:DAYLIGHT
TZOFFSETFROM:+0100
TZOFFSETTO:+0200
TZNAME:CEST
DTSTART:20270328T010000
END:DAYLIGHT
BEGIN:STANDARD
TZOFFSETFROM:+0200
TZOFFSETTO:+0100
TZNAME:CET
DTSTART:20271031T010000
END:STANDARD
END:VTIMEZONE
BEGIN:VEVENT
DTSTART;TZID=Europe/Berlin:20260507T180000
DTEND;TZID=Europe/Berlin:20260507T220000
DTSTAMP:20260421T201829
CREATED:20260415T195412Z
LAST-MODIFIED:20260415T200322Z
UID:9466-1778176800-1778191200@probst-wein.de
SUMMARY:4 Gänge-Weinmenü bei Köstner
DESCRIPTION:Es ist wieder soweit:  \nPROBST WEIN & leckere Speisen treffen diesmal in Neustadt/Aisch aufeinander.\nIn Kooperation mit der Richard Köstner Gruppe gibt es ein Vier Gänge Menü im neuen Firmengebäude.  \nEs freut mich sehr die wunderbare Pausenlounge mit dem ersten Event-Cooking vor Ort mit PROBST WEIN begießen zu dürfen. \nEs gibt ein leckeres\, regionales 4-Gänge-Menü von Stefan Herbolzheimer – bekannt als Koch (und Künstler?) aus Leidenschaft – die „Dicke Katze“.  \nDie offene Küche lädt zum Zuschauen und Fragen ein. Oder schlicht zum Genuss und Gespräch am Platz. Getränke und Wein inklusive! \nIch freue mich sehr darauf\, Euch mit ausgewählten PROBST WEINEN durch den Abend zu geleiten. \nAuf das GUTE im Leben! \nIm Gebäude der Richard Köstner Gruppe\nKarl-Eibl-Straße 44\, 91413 Neustadt an der Aisch  \nEinlass und Aperitiv um 18 Uhr\nBeginn 18:30 Uhr\n89\,- EURo\,\nKarten ausschließlich per Vorverkauf \nInfos und Reservierung:\nRichard Köstner Gruppe\nTel.: 09161 668421\nMail: manuela.zwanzger@koestner.de  \noder persönlich an der Kasse bei Fa. Richard Köstner 
URL:https://probst-wein.de/event/4-gaenge-weinmenue-bei-koestner/
LOCATION:Köstner\, Karl-Eibl-Straße 44\, Neustadt an der Aisch\, 91413
CATEGORIES:PROBST on tour,WEINfeeling-Events
ATTACH;FMTTYPE=image/jpeg:https://probst-wein.de/wp-content/uploads/2026/04/Kopie-von-2026_Maerz-1920-x-1080-px-1200-x-627-px-1080-x-700-px-e1776283114877.jpg
END:VEVENT
END:VCALENDAR