BEGIN:VCALENDAR
VERSION:2.0
PRODID:-//PROBST WEIN - ECPv6.15.17.1//NONSGML v1.0//EN
CALSCALE:GREGORIAN
METHOD:PUBLISH
X-ORIGINAL-URL:https://probst-wein.de
X-WR-CALDESC:Veranstaltungen für PROBST WEIN
REFRESH-INTERVAL;VALUE=DURATION:PT1H
X-Robots-Tag:noindex
X-PUBLISHED-TTL:PT1H
BEGIN:VTIMEZONE
TZID:Europe/Berlin
BEGIN:DAYLIGHT
TZOFFSETFROM:+0100
TZOFFSETTO:+0200
TZNAME:CEST
DTSTART:20250330T010000
END:DAYLIGHT
BEGIN:STANDARD
TZOFFSETFROM:+0200
TZOFFSETTO:+0100
TZNAME:CET
DTSTART:20251026T010000
END:STANDARD
BEGIN:DAYLIGHT
TZOFFSETFROM:+0100
TZOFFSETTO:+0200
TZNAME:CEST
DTSTART:20260329T010000
END:DAYLIGHT
BEGIN:STANDARD
TZOFFSETFROM:+0200
TZOFFSETTO:+0100
TZNAME:CET
DTSTART:20261025T010000
END:STANDARD
BEGIN:DAYLIGHT
TZOFFSETFROM:+0100
TZOFFSETTO:+0200
TZNAME:CEST
DTSTART:20270328T010000
END:DAYLIGHT
BEGIN:STANDARD
TZOFFSETFROM:+0200
TZOFFSETTO:+0100
TZNAME:CET
DTSTART:20271031T010000
END:STANDARD
END:VTIMEZONE
BEGIN:VEVENT
DTSTART;TZID=Europe/Berlin:20260705T180000
DTEND;TZID=Europe/Berlin:20260705T200000
DTSTAMP:20260421T203459
CREATED:20260309T083350Z
LAST-MODIFIED:20260420T100215Z
UID:6964-1783274400-1783281600@probst-wein.de
SUMMARY:Konzert Schloss Seehaus
DESCRIPTION:konzert Schloss seehaus – Konzertsaal\n„Bravo\, Signore Sterkel“ – Festkonzert zum 25-jährigen Jubiläum der Sterkel-Gesellschaft\nGenießt vor und nach dem Konzert und in der Pause unsere PROBST WEINE im wunderbaren Ambiente von Schloss Seehaus – nur wenige hundert Meter von unserem GUT entfernt. Gerne darf auch vorab Wein für zu Hause bestellt werden. Einzelne Flaschen können auch spontan abends noch zum Nachklingen mitgenommen werden. \nDie Musik von Franz Xaver Sterkel (1750 – 1817) hat im späten 18. Jahrhundert viele Menschen begeistert – so auch den jungen Beethoven\, der den Meister im Jahre 1791 extra in Aschaffenburg besuchte und dort jede Menge Inspiration erhielt.  \nMit einer Fülle an Musik und Mitwirkenden lädt das Geburtstagskonzert zu einer klangvollen Reise ein und vereint in einem „Best of“ ausgewählte Kostbarkeiten aus dem Schaffen von Sterkel und lässt dessen schöpferische Vielfalt lebendig werden. \n  \nNeben Liedern und Duetten des Würzburger Meisters erklingen auch sein Quartett für Flöte\, Violine\, Cello und Hammerklavier in F und seine Sonate für vierhändiges Klavier in D-Dur sowie Auszüge aus den Romanzen für Gesang Klavier und Flöte/Violine. \n  \nGefeiert wird in diesem Festkonzert das 25-jährige Jubiläum der J.F.X. Sterkel-Gesellschaft e.V. deren unermüdlicher 1. Vorsitzender Dr. Joachim Fischer eine kleine Einführung halten wird.  \n  \nKatharina Schneider\, Sopran \nJan Kobow\, Tenor & Hammerklavier vierhändig \nSylvia Ackermann\, Hammerklavier \nAnna Kaiser\, Violine \nChristian Prader\, Traversflöte \nJohannes Berger\, Violoncello \n  \nEintritt 25 / 20 \n 
URL:https://probst-wein.de/event/konzert-schloss-seehaus/
LOCATION:Schloss Seehaus\, Seehaus 6\, 91478 Markt Nordheim\, Franken\, 91478\, Germany
CATEGORIES:Schloss Seehaus Events
ATTACH;FMTTYPE=image/png:https://probst-wein.de/wp-content/uploads/2025/03/schloss-seehaus-ev-logo_1.png
ORGANIZER;CN="Schloss Seehaus e.V.":MAILTO:info@schloss-seehaus.de
END:VEVENT
END:VCALENDAR