BEGIN:VCALENDAR
VERSION:2.0
PRODID:-//PROBST WEIN - ECPv6.15.17.1//NONSGML v1.0//EN
CALSCALE:GREGORIAN
METHOD:PUBLISH
X-WR-CALNAME:PROBST WEIN
X-ORIGINAL-URL:https://probst-wein.de
X-WR-CALDESC:Veranstaltungen für PROBST WEIN
REFRESH-INTERVAL;VALUE=DURATION:PT1H
X-Robots-Tag:noindex
X-PUBLISHED-TTL:PT1H
BEGIN:VTIMEZONE
TZID:Europe/Berlin
BEGIN:DAYLIGHT
TZOFFSETFROM:+0100
TZOFFSETTO:+0200
TZNAME:CEST
DTSTART:20250330T010000
END:DAYLIGHT
BEGIN:STANDARD
TZOFFSETFROM:+0200
TZOFFSETTO:+0100
TZNAME:CET
DTSTART:20251026T010000
END:STANDARD
BEGIN:DAYLIGHT
TZOFFSETFROM:+0100
TZOFFSETTO:+0200
TZNAME:CEST
DTSTART:20260329T010000
END:DAYLIGHT
BEGIN:STANDARD
TZOFFSETFROM:+0200
TZOFFSETTO:+0100
TZNAME:CET
DTSTART:20261025T010000
END:STANDARD
BEGIN:DAYLIGHT
TZOFFSETFROM:+0100
TZOFFSETTO:+0200
TZNAME:CEST
DTSTART:20270328T010000
END:DAYLIGHT
BEGIN:STANDARD
TZOFFSETFROM:+0200
TZOFFSETTO:+0100
TZNAME:CET
DTSTART:20271031T010000
END:STANDARD
END:VTIMEZONE
BEGIN:VEVENT
DTSTART;TZID=Europe/Berlin:20260901T193000
DTEND;TZID=Europe/Berlin:20260901T210000
DTSTAMP:20260421T205025
CREATED:20250319T180747Z
LAST-MODIFIED:20260420T101001Z
UID:7031-1788291000-1788296400@probst-wein.de
SUMMARY:Konzert Schloss Seehaus
DESCRIPTION:konzert Schloss Seehaus – Orangerie\n„Zigeunerleben“ – Zigeunerlieder und Zigeunermelodien von Brahms\, Dvorak\, Schumann\, Ravel u.a.\nGenießt vor und nach dem Konzert und in der Pause unsere PROBST WEINE im wunderbaren Ambiente von Schloss Seehaus – nur wenige hundert Meter von unserem GUT entfernt. Gerne darf auch vorab Wein für zu Hause bestellt werden. Einzelne Flaschen können auch spontan abends noch zum Nachklingen mitgenommen werden. \nDas Thema Zigeuner in der Musik des 19. Und 20. Jahrhunderts ist der rote Faden dieses besonderen Abends. Nicht nur Musik ist zu hören\, es wird auch eine verbindende Geschichte erzählt. \nEine Auswahl der Zigeunerlieder op. 103 von Johannes Brahms und Zigeunermelodien op. 55  von Antonin Dvorak untermalen sie und werden ergänzt von Robert Schumanns Quartett „Zigeunerleben“ und von Liedern des Spaniers Joaquin Turina. Hinzu kommt Kammermusik für Violine und Klavier wie „Tzigane“ von Maurice Ravel\, Brahms Ungarische Tänze in einer Bearbeitung von Brahms-Freund Joseph Joachim\, gespielt von dem russisch-ungarischen Geiger Graf Mourja\, der wie kaum ein anderer in diesem Genre zu Hause ist. Er ist Professor am Moskauer Konservatorium\, Preisträger unzähliger Wettbewerbe wie z.B. dem Moskauer Tschaikowski-Wettbewerb und wird diesem Abend eine ganz besondere Note verleihen. \n  \nMiriam Fußeder\, Sopran \nJennifer Gleinig\, Alt \nJan Kobow\, Tenor \nSebastian Noack\, Bass \nGraf Mourja\, Violine \nArthur Schoonderwoerd\, Klavier \n  \nEintritt: 25 / 20
URL:https://probst-wein.de/event/konzert-schloss-seehaus-5/
LOCATION:Schloss Seehaus\, Seehaus 6\, 91478 Markt Nordheim\, Franken\, 91478\, Germany
CATEGORIES:Schloss Seehaus Events
ATTACH;FMTTYPE=image/png:https://probst-wein.de/wp-content/uploads/2025/03/schloss-seehaus-ev-logo_1.png
ORGANIZER;CN="Schloss Seehaus e.V.":MAILTO:info@schloss-seehaus.de
END:VEVENT
END:VCALENDAR