BEGIN:VCALENDAR
VERSION:2.0
PRODID:-//PROBST WEIN - ECPv6.15.17.1//NONSGML v1.0//EN
CALSCALE:GREGORIAN
METHOD:PUBLISH
X-ORIGINAL-URL:https://probst-wein.de
X-WR-CALDESC:Veranstaltungen für PROBST WEIN
REFRESH-INTERVAL;VALUE=DURATION:PT1H
X-Robots-Tag:noindex
X-PUBLISHED-TTL:PT1H
BEGIN:VTIMEZONE
TZID:Europe/Berlin
BEGIN:DAYLIGHT
TZOFFSETFROM:+0100
TZOFFSETTO:+0200
TZNAME:CEST
DTSTART:20250330T010000
END:DAYLIGHT
BEGIN:STANDARD
TZOFFSETFROM:+0200
TZOFFSETTO:+0100
TZNAME:CET
DTSTART:20251026T010000
END:STANDARD
BEGIN:DAYLIGHT
TZOFFSETFROM:+0100
TZOFFSETTO:+0200
TZNAME:CEST
DTSTART:20260329T010000
END:DAYLIGHT
BEGIN:STANDARD
TZOFFSETFROM:+0200
TZOFFSETTO:+0100
TZNAME:CET
DTSTART:20261025T010000
END:STANDARD
BEGIN:DAYLIGHT
TZOFFSETFROM:+0100
TZOFFSETTO:+0200
TZNAME:CEST
DTSTART:20270328T010000
END:DAYLIGHT
BEGIN:STANDARD
TZOFFSETFROM:+0200
TZOFFSETTO:+0100
TZNAME:CET
DTSTART:20271031T010000
END:STANDARD
END:VTIMEZONE
BEGIN:VEVENT
DTSTART;TZID=Europe/Berlin:20260906T180000
DTEND;TZID=Europe/Berlin:20260906T200000
DTSTAMP:20260421T160833
CREATED:20250319T181111Z
LAST-MODIFIED:20260420T101123Z
UID:7036-1788717600-1788724800@probst-wein.de
SUMMARY:Konzert Schloss Seehaus
DESCRIPTION:konzert – Konzertsaal\nensemble1800berlin „Im Sturm“ – Gesprächskonzert mit Beethoven 1. Sinfonie und Haydn „Die Uhr“\nGenießt vor und nach dem Konzert und in der Pause unsere PROBST WEINE im wunderbaren Ambiente von Schloss Seehaus – nur wenige hundert Meter von unserem GUT entfernt. Gerne darf auch vorab Wein für zu Hause bestellt werden. Einzelne Flaschen können auch spontan abends noch zum Nachklingen mitgenommen werden. \n  \nJoseph Haydn Sinfonie „Die Uhr“ in D-Dur (Bearbeitung Muzio Clementi\, 1822) \nLudwig van Beethoven Sinfonie Nr. 1 op. 21 in C-Dur (Bearb. J.N. Hummel\, 1825) \n  \nBeethovens erster Sinfonie wird ein Spätwerk Joseph Haydns gegenübergestellt. Beide Werke entstanden am Ende des 18. Jahrhunderts in Folge zweier mehr oder weniger freiwilligen Reisen. Haydn komponierte seine Sinfonie Hob. 101 1794 in London\, Beethoven begann nach seinem Umzug von Bonn nach Wien bereits 1799 mit den Aufzeichnungen für seine erste Sinfonie\, die 1801 uraufgeführt wurde. Es waren stürmische Zeiten: So wie Haydn den Esterhazy-Hof in Wien als ungebundener Mann Richtung London verlassen konnte\, um dort unter ihm völlig unbekannten ökonomischen Verhältnissen sein Glück und Geld zu machen\, so hatte zur gleichen Zeit Beethoven Bonn den Rücken gekehrt\, um in Wien als freier Komponist und Pianist Fuß zu fassen. Die Unruhe der Reisenden und ihre Suche nach Überraschendem und Unvermutetem ist beiden Werken eigen. Die Formsprache und Motiv-Verarbeitung Beethovens übertraf jedoch bereits mit der 1. Sinfonie alles bis dahin Bekannte und dies vom ersten Akkord an. Das ensemble1800berlin greift das Momentum der Überraschung auf\, in dem es „Im Sturm!“ die Sinfonien als Kammermusik-Arrangements des frühen 19. Jahrhunderts in der sogenannten „Jupiter-Besetzung“ interpretiert\, aus der Feder der Beethoven-Schüler\, Pianisten und Verleger Johann Nepomuk Hummel und Muzio Clementi. Die Haydn- und Beethoven-Sinfonien Hob 101 und N° 1 erklingen 2026 auf Schloss Seehaus zum ersten Mal in dieser Besetzung mit ihrem einzigartigen Klangbild rund um einen historischen Hammerflügel und leiten das Beethoven Jahr 2027 ein.  \n  \nAndrea Klitzing\, Traversflöte \nThomas Kretschmer\, Violine \nPatrick Sepec\, Cello \nLucas Blondeel\, Hammerflügel \n  \nEintritt: 25 / 20
URL:https://probst-wein.de/event/konzert-schloss-seehaus-6/
LOCATION:Schloss Seehaus\, Seehaus 6\, 91478 Markt Nordheim\, Franken\, 91478\, Germany
CATEGORIES:Schloss Seehaus Events
ATTACH;FMTTYPE=image/png:https://probst-wein.de/wp-content/uploads/2025/03/schloss-seehaus-ev-logo_1.png
ORGANIZER;CN="Schloss Seehaus e.V.":MAILTO:info@schloss-seehaus.de
END:VEVENT
BEGIN:VEVENT
DTSTART;TZID=Europe/Berlin:20260912T180000
DTEND;TZID=Europe/Berlin:20260912T193000
DTSTAMP:20260421T160833
CREATED:20250319T181559Z
LAST-MODIFIED:20260420T101531Z
UID:7046-1789236000-1789241400@probst-wein.de
SUMMARY:Konzert Schloss Seehaus
DESCRIPTION:Konzert Schloss seehaus – Konzertsaal\nDozentenkonzert – Lieder von Franz Schubert (1797 – 1828) und Ernst Krenek (1900 – 1991)\nGenießt vor und nach dem Konzert und in der Pause unsere PROBST WEINE im wunderbaren Ambiente von Schloss Seehaus – nur wenige hundert Meter von unserem GUT entfernt. Gerne darf auch vorab Wein für zu Hause bestellt werden. Einzelne Flaschen können auch spontan abends noch zum Nachklingen mitgenommen werden. \nAus Kreneks „Reisebuch aus den österreichischen Alpen“ von 1929 gibt es an diesem Dozenten-Konzertabend einen Querschnitt zu hören. Krenek schrieb zu diesem Zyklus nicht nur die Musik\, sondern auch den Text.  \nSinniert wird über das Reisen\, den beginnenden Massentourismus der 1920er Jahre\, aber auch über die Sehnsucht nach dem Andersartigen\, dem Fremden\, hier besonders auf Italien bezogen\, ganz nach dem Motto: „Dort\, wo Du nicht bist\, da ist das Glück“. Diesen Satz zitiert der Komponist in einem Lied\, weswegen auch Schuberts Originalkomposition „Der Wanderer“ sowie einige weitere Schubert-Lieder über das Wandern und Reisen zu Gehör kommen sollen.  \nGanz bewusst wurde dieser Zyklus von Krenek als Gegenstück zu Schuberts Winterreise konzipiert. Eine Sommerreise\, nicht zu Fuß\, sondern mit den modernen Verkehrsmitteln vo vor hundert Jahren: Eisenbahn\, Bergbahn\, Bus und Automobil. Selbst Motorräder kommen vor. \n  \nJan Kobow\, Tenor \nArthur Schoonderwoerd\, Klavier & Hammerflügel \n  \nEintritt frei! Spenden erbeten \n 
URL:https://probst-wein.de/event/konzert-schloss-seehaus-7/
LOCATION:Schloss Seehaus\, Seehaus 6\, 91478 Markt Nordheim\, Franken\, 91478\, Germany
CATEGORIES:Schloss Seehaus Events
ATTACH;FMTTYPE=image/png:https://probst-wein.de/wp-content/uploads/2025/03/schloss-seehaus-ev-logo_1.png
ORGANIZER;CN="Schloss Seehaus e.V.":MAILTO:info@schloss-seehaus.de
END:VEVENT
BEGIN:VEVENT
DTSTART;TZID=Europe/Berlin:20260916T180000
DTEND;TZID=Europe/Berlin:20260916T200000
DTSTAMP:20260421T160833
CREATED:20250319T181806Z
LAST-MODIFIED:20260420T101759Z
UID:7051-1789581600-1789588800@probst-wein.de
SUMMARY:Konzert Schloss Seehaus
DESCRIPTION:Konzert Schloss seehaus\nKammermusik von Johann Sebastian Bach – Dozentinnenkonzert Annie Laflamme\, Axel Wolf und Aleksandra Rupocińska\nGenießt vor und nach dem Konzert und in der Pause unsere PROBST WEINE im wunderbaren Ambiente von Schloss Seehaus – nur wenige hundert Meter von unserem GUT entfernt. Gerne darf auch vorab Wein für zu Hause bestellt werden. Einzelne Flaschen können auch spontan abends noch zum Nachklingen mitgenommen werden. \nEin reiner Johann-Sebastian-Bach-Abend mit Werken für Traversflöte\, Laute und Cembalo\, teils in interessanten Bearbeitungen für diese Besetzung. Beispielsweise wird eine Triosonate für Orgel in einem speziellen\, neuzeitlichen  Arrangement für die Besetzung des Abends gegeben.  \nIm Konzert werden außerdem noch Stücke für Cembalo Solo von Bach zu hören sein. \n  \nSuite BWV 997 bearbeitet in d-Moll für Flöte und Continuo            \n                  -Fantasia -Sarabanda -Giga \n  \nSonata für solo Flöte BWV 1013 in a-Moll                                      \n                  -Allemande -Corrente -Sarabande -Bourrée anglaise \n  \nSonate BWV 525 bearbeitet für Flöte und Continuo in G-Dur (urspr. für Orgel) \n                  -ohne Satzbezeichnung -Adagio -Allegro \n  \nSuite für Laute BWV 998 in Es-Dur                                                                                           \n-Präludium -Fuge -Allegro \n  \nSonate BWV 1034 in e-Moll   \n-Adagio ma non tanto -Allegro -Andante -Allegro \n  \nAnnie Laflamme\, Traversflöte \nAleksandra Rupocińska\, Cembalo \nAxel Wolf\, Laute \n  \nEintritt frei! Spenden für den Schloss Seehaus e.V. erbeten
URL:https://probst-wein.de/event/konzert-schloss-seehaus-8/
LOCATION:Schloss Seehaus\, Seehaus 6\, 91478 Markt Nordheim\, Franken\, 91478\, Germany
CATEGORIES:Schloss Seehaus Events
ATTACH;FMTTYPE=image/png:https://probst-wein.de/wp-content/uploads/2025/03/schloss-seehaus-ev-logo_1.png
ORGANIZER;CN="Schloss Seehaus e.V.":MAILTO:info@schloss-seehaus.de
END:VEVENT
BEGIN:VEVENT
DTSTART;TZID=Europe/Berlin:20260926T180000
DTEND;TZID=Europe/Berlin:20260926T200000
DTSTAMP:20260421T160833
CREATED:20250319T182021Z
LAST-MODIFIED:20260420T115106Z
UID:7056-1790445600-1790452800@probst-wein.de
SUMMARY:Kirchen-Konzert  vom Schloss Seehaus e.V. - Georg Friedrich Händel - Oratorium "Der Messias"
DESCRIPTION:Erlebt unvergessliche Genussmomente mit unseren PROBST WEINEN vor und nach dem Konzert sowie in der Konzertpause. \nNur wenige Meter von der Kirche entfernt laden wir euch herzlich ein\, vor oder nach diesem besonderen Kirchenkonzert bei uns am GUT auf ein Glas Secco oder PROBST WEIN vorbeizukommen – im romantischen Innenhof\, in unserem wunderbaren Garten oder in unserem stilvollen Verkostungsraum und in entspannter Atmosphäre den Abend genussvoll zu begleiten oder ausklingen zu lassen. \nAuf Wunsch könnt ihr euren Aufenthalt bei uns sogar verlängern und direkt am GUT übernachten. \nBestellt eure Lieblingsweine gerne schon vorab für zu Hause oder nehmt einzelne Flaschen ganz spontan am Abend mit – perfekt\, um den Konzertgenuss mit PROBST nachklingen zu lassen. \n\nGeorg Friedrich Händel – Oratorium „Der Messias“ – 50 Jahre Gemeinde Markt Nordheim\nGeorg Friedrich Händel schrieb dieses Oratorium erst 1741 mit Mitte fünfzig nach einer Textzusammenstellung von Charles Jennens\, einem Grundbesitzer und Mäzen\, der viel als Librettist tätig war. Es umfasst die christlichen Prophezeiungen des Alten Testaments\, behandelt aber auch die Geburt und das Leiden Christi. \nDas Besondere an dieser Aufführung ist\, dass sämtliche Solo- und Chorpassagen von den acht Solistinnen und Solisten gesungen werden. \n  \nAnne Stadler\, Sopran \nYuka Koroyasu\, Sopran \nStefan Kunath\, Alt \nSusanne Langner\, Alt \nEirik Falk\, Tenor \nJan Kobow\, Tenor \nSebastian Noack\, Bass \nSteven Klose\, Bass \nDresdner Barockorchester \nVioline: Margret Baumgartl\, Friederike Lehnert\,  Wolfgang von Kessinger\, Karina Müller\nViola: Lothar Haass\, Caroline Kersten\nVioloncello: Thomas Pitt\nKontrabass: Sophia Scheifler\nOrgel: Lucas Pohle\nOboe: Elisabeth Beckert\, Petra Zambo\nFagott: Eva-Maria Horn\nTrompete: Stefan Leitner\, Steffen Naumann\nPauke: Babette Haag \n  \nLeitung & Orgel: Lucas Pohle \nEintritt 25 / 20
URL:https://probst-wein.de/event/kirchen-konzert-vom-schloss-seehaus-e-v-georg-friedrich-haendel-oratorium-der-messias/
LOCATION:Kirche St. Georg Markt Nordheim\, Martk Nordheim 114\, Markt Nordheim\, 91478\, Germany
CATEGORIES:Schloss Seehaus Events
ATTACH;FMTTYPE=image/png:https://probst-wein.de/wp-content/uploads/2025/03/schloss-seehaus-ev-logo_1.png
ORGANIZER;CN="Schloss Seehaus e.V.":MAILTO:info@schloss-seehaus.de
END:VEVENT
BEGIN:VEVENT
DTSTART;TZID=Europe/Berlin:20261220T150000
DTEND;TZID=Europe/Berlin:20261221T233000
DTSTAMP:20260421T160833
CREATED:20250316T202020Z
LAST-MODIFIED:20260221T084830Z
UID:6664-1797778800-1797895800@probst-wein.de
SUMMARY:Winter-SONNWEND WEINfeeling
DESCRIPTION:Zusammen Winter-Sonnwend feiern\nAm Sonntag  und Montag zur Wintersonnenwende wird bei PROBST der vorweihnachtliche Nachmittag und Abend in den Verkostungsräumen und im winterlichen Garten und Pavillion bei Feuer und auch Heißgetränken gefeiert.  \nGönnt euch ein paar entspannte Augbenblicke in der Vorweihnachtszeit auf dem ruhigeren Land auf unserem Hof in Markt Nordheim mit vielen weinseeligen Augenblicken und lichtvollen Gesprächen. \n \nWir entfachen gemeinsam das Feuer im Hof am Sonntag und am Montag gegen 17 Uhr – es lodert\, solange die Gäste es hegen und pflegen. Gerne Kerzen\, Holz oder duftende Feuer-Gaben mitbringen. \nTaucht ein in den Zauber der längsten Nächte des Jahres\, umgeben von der warmen Atmosphäre unseres Innenhofs und den gemütlichen Verkostungsräumen von PROBST WEIN.\nEs darf probiert\, genossen und gelauscht werden. Vielleicht entdeckt ihr dabei sogar euren perfekten Wein für Weihnachten. \nAuf gute WEINE\, gute Gespräche und eine richtig gute Zeit – zusammen! \n \nEs gibt auch leckere promillefreie Heiß- und Kaltgetränke. \n \nWie bei WEIN & SEIN gerne eigene Vesper mitbrigen oder 3 Tage vorher bei mir bestellen! Ihr könnt auch gerne meinen Grill nutzen 😉 \nWer zu wenig Winterkleidung dabei hat\, kann in den beheizten Verkostungsräumen den Event genießen. \nDer Eintritt ist frei. \nDie Weine werden nach dem Verkosten individuell abgerechnet. \nGrößere Gruppen bitte vorher anmelden. \nIch freue mich auf genussvolle Stunden und gegenseitig inspirierende Gespräche.  \nClaudia Fröse-Probst
URL:https://probst-wein.de/event/winter-sonnwend-weinfeeling-2/
LOCATION:PROBST WEIN\, MARKT NORDHEIM 95A\, MARKT NORDHEIM\, 91478\, Germany
CATEGORIES:WEIN & SEIN,WEINfeeling-Events
ATTACH;FMTTYPE=image/jpeg:https://probst-wein.de/wp-content/uploads/2025/03/WEINfeeling_Feuer-e1749910396204.jpg
ORGANIZER;CN="PROBST WEIN":MAILTO:post@probst-wein.de
END:VEVENT
END:VCALENDAR