BEGIN:VCALENDAR
VERSION:2.0
PRODID:-//PROBST WEIN - ECPv6.15.17.1//NONSGML v1.0//EN
CALSCALE:GREGORIAN
METHOD:PUBLISH
X-ORIGINAL-URL:https://probst-wein.de
X-WR-CALDESC:Veranstaltungen für PROBST WEIN
REFRESH-INTERVAL;VALUE=DURATION:PT1H
X-Robots-Tag:noindex
X-PUBLISHED-TTL:PT1H
BEGIN:VTIMEZONE
TZID:Europe/Berlin
BEGIN:DAYLIGHT
TZOFFSETFROM:+0100
TZOFFSETTO:+0200
TZNAME:CEST
DTSTART:20250330T010000
END:DAYLIGHT
BEGIN:STANDARD
TZOFFSETFROM:+0200
TZOFFSETTO:+0100
TZNAME:CET
DTSTART:20251026T010000
END:STANDARD
BEGIN:DAYLIGHT
TZOFFSETFROM:+0100
TZOFFSETTO:+0200
TZNAME:CEST
DTSTART:20260329T010000
END:DAYLIGHT
BEGIN:STANDARD
TZOFFSETFROM:+0200
TZOFFSETTO:+0100
TZNAME:CET
DTSTART:20261025T010000
END:STANDARD
BEGIN:DAYLIGHT
TZOFFSETFROM:+0100
TZOFFSETTO:+0200
TZNAME:CEST
DTSTART:20270328T010000
END:DAYLIGHT
BEGIN:STANDARD
TZOFFSETFROM:+0200
TZOFFSETTO:+0100
TZNAME:CET
DTSTART:20271031T010000
END:STANDARD
END:VTIMEZONE
BEGIN:VEVENT
DTSTART;TZID=Europe/Berlin:20260507T180000
DTEND;TZID=Europe/Berlin:20260507T220000
DTSTAMP:20260421T145035
CREATED:20260415T195412Z
LAST-MODIFIED:20260415T200322Z
UID:9466-1778176800-1778191200@probst-wein.de
SUMMARY:4 Gänge-Weinmenü bei Köstner
DESCRIPTION:Es ist wieder soweit:  \nPROBST WEIN & leckere Speisen treffen diesmal in Neustadt/Aisch aufeinander.\nIn Kooperation mit der Richard Köstner Gruppe gibt es ein Vier Gänge Menü im neuen Firmengebäude.  \nEs freut mich sehr die wunderbare Pausenlounge mit dem ersten Event-Cooking vor Ort mit PROBST WEIN begießen zu dürfen. \nEs gibt ein leckeres\, regionales 4-Gänge-Menü von Stefan Herbolzheimer – bekannt als Koch (und Künstler?) aus Leidenschaft – die „Dicke Katze“.  \nDie offene Küche lädt zum Zuschauen und Fragen ein. Oder schlicht zum Genuss und Gespräch am Platz. Getränke und Wein inklusive! \nIch freue mich sehr darauf\, Euch mit ausgewählten PROBST WEINEN durch den Abend zu geleiten. \nAuf das GUTE im Leben! \nIm Gebäude der Richard Köstner Gruppe\nKarl-Eibl-Straße 44\, 91413 Neustadt an der Aisch  \nEinlass und Aperitiv um 18 Uhr\nBeginn 18:30 Uhr\n89\,- EURo\,\nKarten ausschließlich per Vorverkauf \nInfos und Reservierung:\nRichard Köstner Gruppe\nTel.: 09161 668421\nMail: manuela.zwanzger@koestner.de  \noder persönlich an der Kasse bei Fa. Richard Köstner 
URL:https://probst-wein.de/event/4-gaenge-weinmenue-bei-koestner/
LOCATION:Köstner\, Karl-Eibl-Straße 44\, Neustadt an der Aisch\, 91413
CATEGORIES:PROBST on tour,WEINfeeling-Events
ATTACH;FMTTYPE=image/jpeg:https://probst-wein.de/wp-content/uploads/2026/04/Kopie-von-2026_Maerz-1920-x-1080-px-1200-x-627-px-1080-x-700-px-e1776283114877.jpg
END:VEVENT
BEGIN:VEVENT
DTSTART;TZID=Europe/Berlin:20260516T193000
DTEND;TZID=Europe/Berlin:20260516T210000
DTSTAMP:20260421T145035
CREATED:20250319T144105Z
LAST-MODIFIED:20260420T124542Z
UID:6922-1778959800-1778965200@probst-wein.de
SUMMARY:Schloss Seehaus Eröffnungs-Konzert "Beym Clavier zu singen" mit Jan Weinhold und Jan Kobow
DESCRIPTION:Erlebt unvergessliche Genussmomente mit unseren PROBST WEINEN vor und nach dem Konzert sowie in der Pause im stilvollen Ambiente von Schloss Seehaus – nur wenige hundert Meter von unserem GUT entfernt\, auf dem ihr jetzt auch exklusiv übernachten könnt. \nBestellt eure Lieblingsweine bei mir gerne schon vorab für zu Hause oder nehmt einzelne Flaschen ganz spontan am Abend mit – perfekt\, um den Konzertgenuss weinseelig mit PROBST nachklingen zu lassen. \n\n„Beym Clavier zu singen“ Claviermusik und Lieder am Clavichord\nLieder\, Cantaten und Claviermusik von C.P.E. Bach (1714 – 1788)\, Friedrich Gottlob Fleischer (1722 – 1806)\,  Johann Gottfried Müthel (1728 – 1788)\, Carl Siegmund v. Seckendorff (1744 – 1785)\, Wilhelm Friedemann Bach (1710 – 1784)\, Joseph Haydn (1732 – 1809) & Wolfgang Amadé Mozart (1756 – 1791). \nUnter dem Namen Clavier verstand man im 18. Jahrhundert eigentlich immer das Clavichord. Dieses sehr leise Instrument wurde von Komponisten wie Müthel und CPE Bach ganz besonders geschätzt und in der Kapelle von Schloss Seehaus kommt das leise Instrument klanglich ganz besonders gut zur Geltung.  \nNeben CPE Bachs „Die Grazien“ gibt es von Fleischer  „Der unglückliche Ehemann“ zu hören\, ein Stück aus den „Cantaten zum Scherz und Vergnügen“ von 1763\, das einige recht erheiternde Passagen hat.  \nDer Mittelfranke Siegmund von Seckendorff darf in so einem Programm nicht fehlen\, schuf er doch in Weimar am Hofe viele Erst-Vertonungen mancher Goethe-Gedichte. \nJan Weinhold\, Clavichord & Jan Kobow\, Tenor \nEintritt 25 / 20 \n\nKartenvorbestellung:\nMail an info@schloss-seehaus.de oder telefonisch 09165-541 \nKartenvorverkauf: \nBuchhandlung Seehars\nFriedrich-Ebert-Str. 1\n97215 Uffenheim \n\n\nBuchhandlung Dorn\nKegetstraße 2\n91438 Bad Windsheim  \n\n\nBuchhandlung Dorn\nWilhelmstraße 33\n91413 Neustadt/Aisch
URL:https://probst-wein.de/event/schloss-seehaus-eroeffnungs-konzert-beym-clavier-zu-singen-mit-jan-weinhold-und-jan-kobow/
LOCATION:Schloss Seehaus\, Seehaus 6\, 91478 Markt Nordheim\, Franken\, 91478\, Germany
CATEGORIES:Schloss Seehaus Events
ATTACH;FMTTYPE=image/jpeg:https://probst-wein.de/wp-content/uploads/2025/03/Konzert_Seehaus_Kalender-e1776688938534.jpg
ORGANIZER;CN="Schloss Seehaus e.V.":MAILTO:info@schloss-seehaus.de
END:VEVENT
BEGIN:VEVENT
DTSTART;TZID=Europe/Berlin:20260528T193000
DTEND;TZID=Europe/Berlin:20260528T210000
DTSTAMP:20260421T145035
CREATED:20250319T145605Z
LAST-MODIFIED:20260420T124719Z
UID:6940-1779996600-1780002000@probst-wein.de
SUMMARY:Kirchen-Konzert vom Schloss Seehaus e.V. Dialog-Kantaten von Johann Sebastian Bach
DESCRIPTION:Erlebt unvergessliche Genussmomente mit unseren PROBST WEINEN vor und nach dem Konzert sowie in der Konzertpause. \nNur wenige Meter von der Markt Nordheimer Kirche St. Georg entfernt laden wir euch herzlich ein\, vor oder nach dem Konzert bei uns am GUT auf ein Glas Secco oder PROBST WEIN vorbeizukommen – im romantischen Innenhof\, in unserem wunderbaren Garten oder in unserem stilvollen Verkostungsraum und in entspannter Atmosphäre den Abend genussvoll zu begleiten oder ausklingen zu lassen. \nAuf Wunsch könnt ihr euren Aufenthalt bei uns sogar verlängern und direkt am GUT übernachten. \nBestellt eure Lieblingsweine gerne bei mir schon vorab für zu Hause oder nehmt einzelne Flaschen ganz spontan am Abend mit – perfekt\, um den Konzertgenuss weinseelig mit PROBST nachklingen zu lassen. \n  \n\nKonzert Kirche St. Georg\nLiebster Jesu\, mein Verlangen – Dialog-Kantaten von Johann Sebastian Bach\nDie Kantaten von Johann Sebastian Bach sind ein ganz besonderer Kosmos\, dem sich Studierende der Hochschule für Musik in Nürnberg in einem Konzert auseinandersetzen wollen. Es stehen zwei sogenannte Dialog-Kantaten im Mittelpunkt dieser Aufführung. Sopran und Bass singen abwechselnd Rezitative und Arien\, aber auch gemeinsame Duette.  \nDas Stück von Dietrich Buxtehude hingegen ist eine Choralkantate\, die eher vom Ensemblegesang geprägt ist und einen der schönsten Choräle überhaupt variiert: Jesu\, meine Freunde. \nJ.S. Bach Kantate BWV 32 ‚Liebster Jesu\, mein Verlangen‘ \nJ.S. Bach Kantate BWV 57 ‚Selig ist der Mann‘ \nD. Buxtehude Kantate BuxWV 60 ‚Jesu\, meine Freude‘ \n  \nMechtild Söffler\, Sopran \nAnnemarie Koller\, Sopran \nSora Ehi\, Bass \nInstrumentalensemble aus Studierenden der Hochschule für Musik Nürnberg \nSebastian Breuing\, musikalische Leitung \nEintritt frei! Spende für den Schloss Seehaus e.V. erbeten                                                   \n 
URL:https://probst-wein.de/event/kirchen-konzert-vom-schloss-seehaus-e-v-dialog-kantaten-von-johann-sebastian-bach/
LOCATION:Kirche St. Georg Markt Nordheim\, Martk Nordheim 114\, Markt Nordheim\, 91478\, Germany
CATEGORIES:Schloss Seehaus Events
ATTACH;FMTTYPE=image/jpeg:https://probst-wein.de/wp-content/uploads/2025/03/Konzert_Seehaus_Kalender-e1776688938534.jpg
ORGANIZER;CN="Schloss Seehaus e.V.":MAILTO:info@schloss-seehaus.de
END:VEVENT
END:VCALENDAR