BEGIN:VCALENDAR
VERSION:2.0
PRODID:-//PROBST WEIN - ECPv6.15.17.1//NONSGML v1.0//EN
CALSCALE:GREGORIAN
METHOD:PUBLISH
X-ORIGINAL-URL:https://probst-wein.de
X-WR-CALDESC:Veranstaltungen für PROBST WEIN
REFRESH-INTERVAL;VALUE=DURATION:PT1H
X-Robots-Tag:noindex
X-PUBLISHED-TTL:PT1H
BEGIN:VTIMEZONE
TZID:Europe/Berlin
BEGIN:DAYLIGHT
TZOFFSETFROM:+0100
TZOFFSETTO:+0200
TZNAME:CEST
DTSTART:20250330T010000
END:DAYLIGHT
BEGIN:STANDARD
TZOFFSETFROM:+0200
TZOFFSETTO:+0100
TZNAME:CET
DTSTART:20251026T010000
END:STANDARD
BEGIN:DAYLIGHT
TZOFFSETFROM:+0100
TZOFFSETTO:+0200
TZNAME:CEST
DTSTART:20260329T010000
END:DAYLIGHT
BEGIN:STANDARD
TZOFFSETFROM:+0200
TZOFFSETTO:+0100
TZNAME:CET
DTSTART:20261025T010000
END:STANDARD
BEGIN:DAYLIGHT
TZOFFSETFROM:+0100
TZOFFSETTO:+0200
TZNAME:CEST
DTSTART:20270328T010000
END:DAYLIGHT
BEGIN:STANDARD
TZOFFSETFROM:+0200
TZOFFSETTO:+0100
TZNAME:CET
DTSTART:20271031T010000
END:STANDARD
END:VTIMEZONE
BEGIN:VEVENT
DTSTART;TZID=Europe/Berlin:20260613T193000
DTEND;TZID=Europe/Berlin:20260613T210000
DTSTAMP:20260421T161945
CREATED:20250319T185820Z
LAST-MODIFIED:20260420T125206Z
UID:7108-1781379000-1781384400@probst-wein.de
SUMMARY:Konzert Schloss Seehaus Titans Rising Ensemble - Von Petrarcas O passi sparsi bis zur kühnen Emotionalität der seconda pratica
DESCRIPTION:Erlebt unvergessliche Genussmomente mit unseren PROBST WEINEN vor und nach dem Konzert sowie in der Pause im stilvollen Ambiente von Schloss Seehaus – nur wenige hundert Meter von unserem GUT entfernt\, auf dem ihr jetzt auch exklusiv übernachten könnt. \nBestellt eure Lieblingsweine bei mir gerne schon vorab für zu Hause oder nehmt einzelne Flaschen ganz spontan am Abend mit – perfekt\, um den Konzertgenuss weinseelig mit PROBST nachklingen zu lassen. \n\nTitans Rising Ensemble – Von Petrarcas O passi sparsi bis zur kühnen Emotionalität der seconda pratica\nLuci serene e chiare zeichnet die Entwicklung des italienischen Madrigals von seinen frühesten Anfängen bis zum Beginn des Barock nach. Das Programm eröffnet mit Petrarcas „O passi sparsi“ in der Vertonung von Sebastiano Festa\, dessen vierstimmiger Satz noch an die Frottola erinnert und zugleich eine neue Sensibilität für den poetischen Ausdruck erkennen lässt. Madrigale von Philippe Verdelot und Jacques Arcadelt vertiefen diese Intimität und geben Zärtlichkeit und persönlicher Empfindung eine Stimme. \nMit Maddalena Casulana und Giovanni Pierluigi da Palestrina gewinnt das fünfstimmige Madrigal an Farbe\, rhetorischer Tiefe und Raffinesse; Casulana ragt dabei durch ihre kühne Erfindungskraft und ihre historische Bedeutung als erste Frau hervor\, die ein Musikbuch unter eigenem Namen veröffentlichte. Neu komponierte Diminutionen für Renaissance-Traversflöte von Amanda Markwick würdigen Casulanas mutigen Geist\, indem sie improvisatorische Linien zwischen Stimmen und Laute verweben. \nDie Reise kulminiert in den Madrigalen von Claudio Monteverdi und Barbara Strozzi\, in denen der Text zur dramatischen Kraft wird und das Madrigal seine volle Ausdrucksfreiheit erreicht – ein Lichtstrahl auf ein Jahrhundert\, in dem die Poesie die musikalische Fantasie entfachte. \nSebastiano Festa: O passi sparsi \nPhilippe Verdelot: Fuggi fuggi cor mio \nGiovanni Pierluigi da Palestrina: Rime\, dai sospir miei nate e dal pianto \nMaddalena Casulana: Ridon’ hor per le piagge \nClaudio Monteverdi: Luci serene e chiare u.v.m. \nAngela Postweiler – Sopran \nSarah Fuhs – Sopran \nKorneel Van Neste – Alt \nStephan Gähler – Tenor \nJorge Escutia – Bass \nAmanda Markwick – Renaissance-Traversflöte \nMagnus Andersson – Laute & Theorbe \n  \nEintritt 25 / 20 \n\nKartenvorbestellung:\nMail an info@schloss-seehaus.de oder telefonisch 09165-541 \nKartenvorverkauf: \nBuchhandlung Seehars\nFriedrich-Ebert-Str. 1\n97215 Uffenheim \nBuchhandlung Dorn\nKegetstraße 2\n91438 Bad Windsheim  \nBuchhandlung Dorn\nWilhelmstraße 33\n91413 Neustadt/Aisch
URL:https://probst-wein.de/event/konzert-schloss-seehaus-titans-rising-ensemble-von-petrarcas-o-passi-sparsi-bis-zur-kuehnen-emotionalitaet-der-seconda-pratica/
LOCATION:Schloss Seehaus\, Seehaus 6\, 91478 Markt Nordheim\, Franken\, 91478\, Germany
CATEGORIES:Schloss Seehaus Events
ATTACH;FMTTYPE=image/jpeg:https://probst-wein.de/wp-content/uploads/2025/03/Konzert_Seehaus_Kalender-e1776688938534.jpg
ORGANIZER;CN="Schloss Seehaus e.V.":MAILTO:info@schloss-seehaus.de
END:VEVENT
BEGIN:VEVENT
DTSTART;TZID=Europe/Berlin:20260620T170000
DTEND;TZID=Europe/Berlin:20260622T010000
DTSTAMP:20260421T161945
CREATED:20250316T182520Z
LAST-MODIFIED:20260420T131424Z
UID:6635-1781974800-1782090000@probst-wein.de
SUMMARY:SONNWEND-WEINfeeling-Feier
DESCRIPTION:Zusammen Sommer-Sonnwende Feiern\n \nAm Samstag und Sonntag zur Sommersonnenwende wird bei PROBST der Mittsommerabend im Garten und Pavillion gefeiert. Wir entfachen gemeinsam das Feuer\, stoßen mit PROBST WEIN an und wer möchte\, kann mit mir um die Feuerschale tanzen.  \n \nWie bei WEIN & SEIN gerne eigene Vesper mitbrigen oder 3 Tage vorher bei mir bestellen! Probiert aus\, welcher Wein am Besten zu euren Leckerein passt.\n \nWählt aus dem vielfältigen Geschmacksregenbogen meiner PROBST WEINE aus. Für jeden Geschmack ist was dabei. Probiert es einfach in lockerer Atmosphäre aus. Ich begleite und berate euch! \n \nDer Eintritt ist frei. \nDie Weine werden nach dem Verkosten individuell abgerechnet.  \nGrößere Gruppen bitte vorher anmelden. \nIch freue mich auf genussvolle Stunden und gegenseitig inspirierende Gespräche an diesem besonderen Sonnwend-Abend.  \nClaudia Fröse-Probst
URL:https://probst-wein.de/event/sonnwend-weinfeeling-feier/
LOCATION:PROBST WEIN\, MARKT NORDHEIM 95A\, MARKT NORDHEIM\, 91478\, Germany
CATEGORIES:WEIN & SEIN,WEINfeeling-Events
ATTACH;FMTTYPE=image/jpeg:https://probst-wein.de/wp-content/uploads/2025/03/Kopie-von-Konzert_Seehaus_Kalender-e1776690917312.jpg
ORGANIZER;CN="PROBST WEIN":MAILTO:post@probst-wein.de
END:VEVENT
END:VCALENDAR