BEGIN:VCALENDAR
VERSION:2.0
PRODID:-//PROBST WEIN - ECPv6.15.17.1//NONSGML v1.0//EN
CALSCALE:GREGORIAN
METHOD:PUBLISH
X-WR-CALNAME:PROBST WEIN
X-ORIGINAL-URL:https://probst-wein.de
X-WR-CALDESC:Veranstaltungen für PROBST WEIN
REFRESH-INTERVAL;VALUE=DURATION:PT1H
X-Robots-Tag:noindex
X-PUBLISHED-TTL:PT1H
BEGIN:VTIMEZONE
TZID:Europe/Berlin
BEGIN:DAYLIGHT
TZOFFSETFROM:+0100
TZOFFSETTO:+0200
TZNAME:CEST
DTSTART:20250330T010000
END:DAYLIGHT
BEGIN:STANDARD
TZOFFSETFROM:+0200
TZOFFSETTO:+0100
TZNAME:CET
DTSTART:20251026T010000
END:STANDARD
BEGIN:DAYLIGHT
TZOFFSETFROM:+0100
TZOFFSETTO:+0200
TZNAME:CEST
DTSTART:20260329T010000
END:DAYLIGHT
BEGIN:STANDARD
TZOFFSETFROM:+0200
TZOFFSETTO:+0100
TZNAME:CET
DTSTART:20261025T010000
END:STANDARD
BEGIN:DAYLIGHT
TZOFFSETFROM:+0100
TZOFFSETTO:+0200
TZNAME:CEST
DTSTART:20270328T010000
END:DAYLIGHT
BEGIN:STANDARD
TZOFFSETFROM:+0200
TZOFFSETTO:+0100
TZNAME:CET
DTSTART:20271031T010000
END:STANDARD
END:VTIMEZONE
BEGIN:VEVENT
DTSTART;TZID=Europe/Berlin:20260703T220000
DTEND;TZID=Europe/Berlin:20260703T233000
DTSTAMP:20260421T175710
CREATED:20250319T150428Z
LAST-MODIFIED:20260420T095945Z
UID:6949-1783116000-1783121400@probst-wein.de
SUMMARY:Sommerkino mit Konzert Schloss Seehaus
DESCRIPTION:Sommernachts-Kino & Picknick – Charly Chaplin „Der Einwanderer“ (1917) „Berlin – Sinfonie der Großstadt“ (1927) Einlass 19:30 Uhr\nGenießt vor und nach dem Kino und in der Pause unsere PROBST WEINE im wunderbaren Ambiente von Schloss Seehaus – nur wenige hundert Meter von unserem GUT entfernt. Gerne darf auch vorab Wein für zu Hause bestellt werden. Einzelne Flaschen können auch spontan abends noch zum Nachklingen mitgenommen werden. \nEin altes Feuerwehrauto der Marke Magirus Deutz transportiert die Leinwand und den historischen 16 mm Projektor. Die Leinwand entfaltet sich dann auf dem Fahrzeug und zu den beiden Stummfilmen wird live improvisiert. Der sommerliche Schlossgarten ist der Kinosaal.  \n  \nBerlin- Sinfonie der Großstadt ist aus dem Jahre 1927 und zeigt einen Tag vom Erwachen bis zur Nacht der damaligen Metropole. Er kann als einer der ersten Dokumentarfilme gelten\, Regie führte Walter Ruttmann\, der als bedeutender Vertreter des abstrakten Experimentalfilms galt.  \n  \nWährend der Berlin-Film mit einer Bahnfahrt beginnt\, spielt Chaplins „The Immigrant“ auf einem Ozeandampfer Richtung USA und ist ein Meisterwerk der Artistik und Komik. \n  \nTobias Rank\, Klavier \nSebastian Pank\, Saxophon \n  \nEintritt 17 / 13
URL:https://probst-wein.de/event/sommerkino-mit-konzert-schloss-seehaus/
LOCATION:Schloss Seehaus\, Seehaus 6\, 91478 Markt Nordheim\, Franken\, 91478\, Germany
CATEGORIES:Schloss Seehaus Events
ATTACH;FMTTYPE=image/png:https://probst-wein.de/wp-content/uploads/2025/03/schloss-seehaus-ev-logo_1.png
ORGANIZER;CN="Schloss Seehaus e.V.":MAILTO:info@schloss-seehaus.de
END:VEVENT
BEGIN:VEVENT
DTSTART;TZID=Europe/Berlin:20260705T180000
DTEND;TZID=Europe/Berlin:20260705T200000
DTSTAMP:20260421T175710
CREATED:20260309T083350Z
LAST-MODIFIED:20260420T100215Z
UID:6964-1783274400-1783281600@probst-wein.de
SUMMARY:Konzert Schloss Seehaus
DESCRIPTION:konzert Schloss seehaus – Konzertsaal\n„Bravo\, Signore Sterkel“ – Festkonzert zum 25-jährigen Jubiläum der Sterkel-Gesellschaft\nGenießt vor und nach dem Konzert und in der Pause unsere PROBST WEINE im wunderbaren Ambiente von Schloss Seehaus – nur wenige hundert Meter von unserem GUT entfernt. Gerne darf auch vorab Wein für zu Hause bestellt werden. Einzelne Flaschen können auch spontan abends noch zum Nachklingen mitgenommen werden. \nDie Musik von Franz Xaver Sterkel (1750 – 1817) hat im späten 18. Jahrhundert viele Menschen begeistert – so auch den jungen Beethoven\, der den Meister im Jahre 1791 extra in Aschaffenburg besuchte und dort jede Menge Inspiration erhielt.  \nMit einer Fülle an Musik und Mitwirkenden lädt das Geburtstagskonzert zu einer klangvollen Reise ein und vereint in einem „Best of“ ausgewählte Kostbarkeiten aus dem Schaffen von Sterkel und lässt dessen schöpferische Vielfalt lebendig werden. \n  \nNeben Liedern und Duetten des Würzburger Meisters erklingen auch sein Quartett für Flöte\, Violine\, Cello und Hammerklavier in F und seine Sonate für vierhändiges Klavier in D-Dur sowie Auszüge aus den Romanzen für Gesang Klavier und Flöte/Violine. \n  \nGefeiert wird in diesem Festkonzert das 25-jährige Jubiläum der J.F.X. Sterkel-Gesellschaft e.V. deren unermüdlicher 1. Vorsitzender Dr. Joachim Fischer eine kleine Einführung halten wird.  \n  \nKatharina Schneider\, Sopran \nJan Kobow\, Tenor & Hammerklavier vierhändig \nSylvia Ackermann\, Hammerklavier \nAnna Kaiser\, Violine \nChristian Prader\, Traversflöte \nJohannes Berger\, Violoncello \n  \nEintritt 25 / 20 \n 
URL:https://probst-wein.de/event/konzert-schloss-seehaus/
LOCATION:Schloss Seehaus\, Seehaus 6\, 91478 Markt Nordheim\, Franken\, 91478\, Germany
CATEGORIES:Schloss Seehaus Events
ATTACH;FMTTYPE=image/png:https://probst-wein.de/wp-content/uploads/2025/03/schloss-seehaus-ev-logo_1.png
ORGANIZER;CN="Schloss Seehaus e.V.":MAILTO:info@schloss-seehaus.de
END:VEVENT
BEGIN:VEVENT
DTSTART;TZID=Europe/Berlin:20260711T173000
DTEND;TZID=Europe/Berlin:20260711T233000
DTSTAMP:20260421T175710
CREATED:20250706T164354Z
LAST-MODIFIED:20260212T090254Z
UID:8270-1783791000-1783812600@probst-wein.de
SUMMARY:PROBST WEIN - Sommerfest - reloaded
DESCRIPTION:Safe-The-Date!!!\n \nNach 10 Jahren ist es nun endlich wieder so weit! Wir feiern ein wundervolles Sommerfest bei uns im Garten! Lasst euch überraschen\, verzaubern und genießt mit uns diese besondere Nacht im Juli! \nALLE Die Dabei sein wollen\, bITTTE schon mal Termin Vormerken und PlÄtze REservieren. Es wird eine Geschlossene Veranstaltung mit Gästeliste! \nWeitere Infos folgen.
URL:https://probst-wein.de/event/probst-wein-sommerfest-reloaded/
LOCATION:PROBST WEIN\, MARKT NORDHEIM 95A\, MARKT NORDHEIM\, 91478\, Germany
CATEGORIES:WEIN & SEIN,WEINfeeling-Events
ATTACH;FMTTYPE=image/jpeg:https://probst-wein.de/wp-content/uploads/2025/07/Sommerfest_16-scaled-e1770841173390.jpeg
ORGANIZER;CN="PROBST WEIN":MAILTO:post@probst-wein.de
END:VEVENT
BEGIN:VEVENT
DTSTART;TZID=Europe/Berlin:20260724T193000
DTEND;TZID=Europe/Berlin:20260724T213000
DTSTAMP:20260421T175710
CREATED:20260309T083622Z
LAST-MODIFIED:20260420T100415Z
UID:7002-1784921400-1784928600@probst-wein.de
SUMMARY:Konzert Schloss Seehaus - Slotkoor
DESCRIPTION:Konzert Schloss seehaus – Schlosskapelle & Orangerie\nKonzert des Slotkoor „The Pilgrim“ in Kapelle\, Garten und Orangerie\nGenießt vor und nach dem Konzert und in der Pause unsere PROBST WEINE im wunderbaren Ambiente von Schloss Seehaus – nur wenige hundert Meter von unserem GUT entfernt. Gerne darf auch vorab Wein für zu Hause bestellt werden. Einzelne Flaschen können auch spontan abends noch zum Nachklingen mitgenommen werden. \nSeit 2009 kommt der niederländische Slotkoor jährlich nach Schloss Seehaus und kehrt nach einer Schaffenspause im Vorjahr mit frischer Kraft zurück. \nDas Slotkoor-Konzert findet zumeist in Kapelle\, Garten und Orangerie statt und gleicht eher einer groß angelegten Performance\, in der ein Großteil des Schlosses bespielt wird. Die Energie und künstlerische Qualität des Ensembles ist einzigartig. \n  \nIf I am silent von David Lang  \n  \nDrei Psalmen von Jan Pieterszon Sweelinck\n– Psalm 13 \n– Psalm 54 \n– Psalm 56  \n  \nSix Chaucerian Pilgrims von William Knight \n– The Pardoner\n– The Friar\n– The Manciple\n– The Wife of Bath\n– The Monk\n– The Prioress \n  \nAuftragskomposition (2026) von Frieda Gustavs  \n  \nZwei Chöre von Lowell Dykstra\n– The sick rose\n– The tale the trees tell \n  \nLord\, let me know my end von Hubert Parry  \n  \nLeitung: Fokko Oldenhuis \n  \nEintritt frei\, Spenden für die Stichting Slotkoor erbeten
URL:https://probst-wein.de/event/konzert-schloss-seehaus-slotkoor/
LOCATION:Schloss Seehaus\, Seehaus 6\, 91478 Markt Nordheim\, Franken\, 91478\, Germany
CATEGORIES:Schloss Seehaus Events
ATTACH;FMTTYPE=image/png:https://probst-wein.de/wp-content/uploads/2025/03/schloss-seehaus-ev-logo_1.png
ORGANIZER;CN="Schloss Seehaus e.V.":MAILTO:info@schloss-seehaus.de
END:VEVENT
BEGIN:VEVENT
DTSTART;TZID=Europe/Berlin:20260729T193000
DTEND;TZID=Europe/Berlin:20260729T210000
DTSTAMP:20260421T175710
CREATED:20250319T175804Z
LAST-MODIFIED:20260420T100604Z
UID:7012-1785353400-1785358800@probst-wein.de
SUMMARY:Konzert Schloss Seehaus
DESCRIPTION:Konzert Schloss seehaus – Ensemble Quartonal\nEnsemble Quartonal – „Sacred and Profane“ unterhaltsamer und sakraler A Capella-Gesang\n \n\n\nGenießt vor und nach dem Konzert und in der Pause unsere PROBST WEINE im wunderbaren Ambiente von Schloss Seehaus – nur wenige hundert Meter von unserem GUT entfernt. Gerne darf auch vorab Wein für zu Hause bestellt werden. Einzelne Flaschen können auch spontan abends noch zum Nachklingen mitgenommen werden. \nDas A-Capella-Ensemble Quartonal feiert seit Jahren beachtliche Erfolge bis hin nach Japan und vielen anderen Ländern. Jetzt sind die vier Männer erstmals in Schloss Seehaus zu hören. \nEin geistlicher Teil zu inneren Kontemplation und Einkehr wird gefolgt von einem beschwingten weltlichen Teil\, alles getragen von der ganz besonderen Klangfarbe dieses einzigartigen Männer-Ensembles. \n  \nAt the round earth‘s imagined corners  \nRené Clausen (*1953)\nText: John Donne (1572-1631)  \nIt will not shine again  \nAurélien Hallopeau (*1995) Text: Emily Brontë (1818-1848)  \nLittle Lamb  \nJoel Phillips (*1958)  \nSacred Light \nOla Gjeilo (*1978)  \nVerleih uns Frieden  \nGeorg Christoph Biller (1955-2022)  \nI love my love  \nArr. Gustav Holst (1874-1934)  \nDanny Boy  \nArr. Jonathan Mummert  \nVier altdeutsche Minnelieder  \nHans Koessler (1853-1926)  \n1. Ich seh‘ auf breiter Heide  \n2. Frau Nachtigall\n3. In einem Rosengärtelein  \n4. Nun bist du mein!  \n  \nSongs for the open road  \nDavid Hamilton (*1955)\n1. The Land of Beyond\n2. Out where the west begins  \n3. Roadways  \n  \nMirko Ludwig\, Tenor \nPedro Matos\, Tenor \nSteffen Henning\, Bariton \nSönke Tams Freier\, Bass \n  \nEintritt 25 / 20
URL:https://probst-wein.de/event/konzert-schloss-seehaus-2/
LOCATION:Schloss Seehaus\, Seehaus 6\, 91478 Markt Nordheim\, Franken\, 91478\, Germany
CATEGORIES:Schloss Seehaus Events
ATTACH;FMTTYPE=image/png:https://probst-wein.de/wp-content/uploads/2025/03/schloss-seehaus-ev-logo_1.png
ORGANIZER;CN="Schloss Seehaus e.V.":MAILTO:info@schloss-seehaus.de
END:VEVENT
END:VCALENDAR