BEGIN:VCALENDAR
VERSION:2.0
PRODID:-//PROBST WEIN - ECPv6.15.17.1//NONSGML v1.0//EN
CALSCALE:GREGORIAN
METHOD:PUBLISH
X-WR-CALNAME:PROBST WEIN
X-ORIGINAL-URL:https://probst-wein.de
X-WR-CALDESC:Veranstaltungen für PROBST WEIN
REFRESH-INTERVAL;VALUE=DURATION:PT1H
X-Robots-Tag:noindex
X-PUBLISHED-TTL:PT1H
BEGIN:VTIMEZONE
TZID:Europe/Berlin
BEGIN:DAYLIGHT
TZOFFSETFROM:+0100
TZOFFSETTO:+0200
TZNAME:CEST
DTSTART:20250330T010000
END:DAYLIGHT
BEGIN:STANDARD
TZOFFSETFROM:+0200
TZOFFSETTO:+0100
TZNAME:CET
DTSTART:20251026T010000
END:STANDARD
BEGIN:DAYLIGHT
TZOFFSETFROM:+0100
TZOFFSETTO:+0200
TZNAME:CEST
DTSTART:20260329T010000
END:DAYLIGHT
BEGIN:STANDARD
TZOFFSETFROM:+0200
TZOFFSETTO:+0100
TZNAME:CET
DTSTART:20261025T010000
END:STANDARD
BEGIN:DAYLIGHT
TZOFFSETFROM:+0100
TZOFFSETTO:+0200
TZNAME:CEST
DTSTART:20270328T010000
END:DAYLIGHT
BEGIN:STANDARD
TZOFFSETFROM:+0200
TZOFFSETTO:+0100
TZNAME:CET
DTSTART:20271031T010000
END:STANDARD
END:VTIMEZONE
BEGIN:VEVENT
DTSTART;TZID=Europe/Berlin:20260823T160000
DTEND;TZID=Europe/Berlin:20260823T193000
DTSTAMP:20260421T201927
CREATED:20250319T180332Z
LAST-MODIFIED:20260420T100823Z
UID:7025-1787500800-1787513400@probst-wein.de
SUMMARY:Konzert Schloss Seehaus
DESCRIPTION:Wandelkonzert – Schloss seehaus & Kirche St. Georg\nWandelkonzert zum 400. Todestag von John Dowland – Musik aus England von John Dowland und Henry Purcell\nGenießt vor und nach dem Wandelkonzert und in den Pausen unsere PROBST WEINE im wunderbaren Ambiente ums Schloss Seehaus – nur wenige hundert Meter von unserem GUT entfernt. Gerne darf auch vorab Wein für zu Hause bestellt werden. Einzelne Flaschen können auch spontan abends noch zum Nachklingen mitgenommen werden. \n16:00 Kirche St. Georg am Markt \n17:30 Begrüßung am Schloss Seehaus \nca. 17:45 Wandelkonzerte in Kapelle\, Konzertsaal und Orangerie \n  \nWeltliche wie geistliche Lieder\, Anthems\, Motetten und Instrumentalstücke bilden das komplexe Gesamtprogramm\, aber auch Bearbeitungen deutscher Komponisten für Orgel.  \nGarantiert zu hören sein werden Hits wie „Come Again“ oder „Flow My Tears“ von Dowland oder „Music For A While“ und „If Music Be The Food Of Love“ von Purcell. Aber auch Purcells „Funeral Music For Queen Mary“ oder etwas seltener gehörte Werke wie „In Guilty Night“. \n  \nElisabeth Hetherington\, Sopran \nAntje Rux\, Sopran \nAlexander Chance\, Altus \nJan Kobow\, Tenor \nJoel Frederiksen\, Bass \n  \nFretwork Gambenconsort: \n  \nRichard Boothby \nJoanna Levine \nEmilia Benjamin \nSam Stadlen \nJonathan Rees \nEmily Ashton \n  \nLee Santana Laute \nTorsten Übelhör\, Orgel & Cembalo \nJörg Meder\, Violone \n  \nEintritt: 45 / 35
URL:https://probst-wein.de/event/konzert-schloss-seehaus-4/
LOCATION:Schloss Seehaus\, Seehaus 6\, 91478 Markt Nordheim\, Franken\, 91478\, Germany
CATEGORIES:Schloss Seehaus Events
ATTACH;FMTTYPE=image/png:https://probst-wein.de/wp-content/uploads/2025/03/schloss-seehaus-ev-logo_1.png
ORGANIZER;CN="Schloss Seehaus e.V.":MAILTO:info@schloss-seehaus.de
END:VEVENT
END:VCALENDAR