BEGIN:VCALENDAR
VERSION:2.0
PRODID:-//PROBST WEIN - ECPv6.15.17.1//NONSGML v1.0//EN
CALSCALE:GREGORIAN
METHOD:PUBLISH
X-WR-CALNAME:PROBST WEIN
X-ORIGINAL-URL:https://probst-wein.de
X-WR-CALDESC:Veranstaltungen für PROBST WEIN
REFRESH-INTERVAL;VALUE=DURATION:PT1H
X-Robots-Tag:noindex
X-PUBLISHED-TTL:PT1H
BEGIN:VTIMEZONE
TZID:Europe/Berlin
BEGIN:DAYLIGHT
TZOFFSETFROM:+0100
TZOFFSETTO:+0200
TZNAME:CEST
DTSTART:20240331T010000
END:DAYLIGHT
BEGIN:STANDARD
TZOFFSETFROM:+0200
TZOFFSETTO:+0100
TZNAME:CET
DTSTART:20241027T010000
END:STANDARD
BEGIN:DAYLIGHT
TZOFFSETFROM:+0100
TZOFFSETTO:+0200
TZNAME:CEST
DTSTART:20250330T010000
END:DAYLIGHT
BEGIN:STANDARD
TZOFFSETFROM:+0200
TZOFFSETTO:+0100
TZNAME:CET
DTSTART:20251026T010000
END:STANDARD
BEGIN:DAYLIGHT
TZOFFSETFROM:+0100
TZOFFSETTO:+0200
TZNAME:CEST
DTSTART:20260329T010000
END:DAYLIGHT
BEGIN:STANDARD
TZOFFSETFROM:+0200
TZOFFSETTO:+0100
TZNAME:CET
DTSTART:20261025T010000
END:STANDARD
END:VTIMEZONE
BEGIN:VEVENT
DTSTART;TZID=Europe/Berlin:20250504T130000
DTEND;TZID=Europe/Berlin:20250504T190000
DTSTAMP:20260422T114022
CREATED:20250315T165357Z
LAST-MODIFIED:20250502T103945Z
UID:6555-1746363600-1746385200@probst-wein.de
SUMMARY:WEIN & SEIN - Frühjahrsmarkt - am Hof mit PROBST WEIN\, Wild und Spargel  vom EDERHof
DESCRIPTION:verkosten – genießen – entspannt einkaufen\n\n\n \nHeute zum Frühjarhsmarkt in Markt Nordheim sind meine atmosphärischen PROBST WEIN-Verkostungsräume für alle geöffnet und zu Besuch ist unser Genusspartner EDERHof mit regionalen Wild und Spargelspezialitäten – auch zum Verkosten…. \nVor oder nach dem Besuch des Frühjahrsmakts nur wenige 100m entfernt\, könnt ihr euch bei schönem Wetter auch in den Innenhof\, Pavillion und meinen wild-romantischen Garten setzten\, um PROBST WEIN in Kombination mit EDERHof-Speizialitäten zu probieren.  \n  \nEigene Vesper darf mitgebracht werden – oder an diesem Tag auch vom Frühjahrsmarkt mitgebracht werden! Probiert aus\, welcher Wein am Besten zu euren Leckerein passt.\n \nWählt aus dem vielfältigen Geschmacksregenbogen meiner PROBST WEINE aus. Für jeden Geschmack ist was dabei. Probiert es einfach in lockerer Atmosphäre aus. Ich begleite und berate euch! \nUnd zu Besuch ist der  traditionsreiche Eder Hof Unternbibert\, der seit Generationen von der Familie Eder geführt wird. \n\nWerner Eder begann 1990 mit dem Spargelanbau. Er tastete sich unter Achtung der natürlichen Gegebenheiten an die geeignetsten Sorten heran. Das Geheimnis seiner außergewöhnlichen Qualität verrät er jedoch nicht. Sicherlich trägt auch die Frische zu seinem Erfolg bei. Das „weiße Gold“ kommt zweimal täglich direkt von den nahegelegenen Feldern in die Waschanlage\, wird sortiert und sofort verkauft – frischer geht es nicht.Anfangs half die gesamte Familie zusammen\, angefangen vom Pflanzen über das Stechen bis hin zum Verkauf. Schon bald wurden aber zusätzliche Kräfte benötigt\, um dem Wunsch der Kunden nach dem besonders aromatischen Spargel nachzukommen. Der Eder Hof versorgt nun seit über 35 Jahren seine zufriedenen Stammkunden\, zu denen auch einige Restaurants in der Umgebung gehören. Im eigenen Hofladen werden weiterhin der passende Wein\, diverse Wildspezialitäten sowie regionaler Honig angeboten.Er ist täglich zwischen 9:00 und 17:00 Uhr geöffnet\, bei kühlerem Wetter empfiehlt sich eine telefonische Vorbestellung des Spargels unter 09828-331.\n\n \nProbiert und kauf gerne von unserem Partner an diesem Tag mit ein. Wir freuen uns auf auch.\n\n\nDer Eintritt ist frei. \nDie Weine werden nach dem Verkosten individuell abgerechnet.  \nGrößere Gruppen bitte vorher anmelden. \nIch freue mich auf genussvolle Stunden und gegenseitig inspirierende Gespräche bei WEIN & SEIN.  \nPROBST hat den WEIN – gemeinsam einfach SEIN! \nClaudia Fröse-Probst \n\n\n\n\n 
URL:https://probst-wein.de/event/wein-sein-fruehjahrsmarkt-am-hof-mit-probst-wein-wild-und-spargel-vom-ederhof/
LOCATION:PROBST WEIN\, MARKT NORDHEIM 95A\, MARKT NORDHEIM\, 91478\, Germany
CATEGORIES:WEIN & SEIN
ATTACH;FMTTYPE=image/jpeg:https://probst-wein.de/wp-content/uploads/2025/03/WEINSEIN_2-e1743019331803.jpg
ORGANIZER;CN="PROBST WEIN":MAILTO:post@probst-wein.de
END:VEVENT
BEGIN:VEVENT
DTSTART;TZID=Europe/Berlin:20250517T140000
DTEND;TZID=Europe/Berlin:20250517T200000
DTSTAMP:20260422T114022
CREATED:20250316T114010Z
LAST-MODIFIED:20250515T095540Z
UID:6628-1747490400-1747512000@probst-wein.de
SUMMARY:WEIN & SEIN
DESCRIPTION:verkosten – genießen – entspannt einkaufen\n \nHeute sind meine atmosphärischen PROBST WEIN-Verkostungsräume für alle geöffnet.  \nBei schönem Wetter könnt ihr auch den Innenhof\, Pavillion und meinen wild-romantischen Garten nutzen.  \nEigene Vesper darf mitgebracht werden! Probiert aus\, welcher Wein am Besten zu euren Leckerein passt.\n \nWählt aus dem vielfältigen Geschmacksregenbogen meiner PROBST WEINE aus. Für jeden Geschmack ist was dabei. Probiert es einfach in lockerer Atmosphäre aus. Ich begleite und berate euch! \n \nUnd bitte nicht vergessen: Brotzeit bringt ihr selber mit oder bestellt sie 3 Tage vorher nach Absprache bei mir. \nDer Eintritt ist frei. \nDie Weine werden nach dem Verkosten individuell abgerechnet.  \nGrößere Gruppen bitte vorher anmelden. \nIch freue mich auf genussvolle Stunden und gegenseitig inspirierende Gespräche bei WEIN & SEIN.  \nPROBST hat den WEIN – gemeinsam einfach SEIN! \nClaudia Fröse-Probst
URL:https://probst-wein.de/event/wein-sein-9/
CATEGORIES:WEIN & SEIN
ATTACH;FMTTYPE=image/jpeg:https://probst-wein.de/wp-content/uploads/2025/03/WEINSEIN_2-e1743019331803.jpg
ORGANIZER;CN="PROBST WEIN":MAILTO:post@probst-wein.de
END:VEVENT
END:VCALENDAR