BEGIN:VCALENDAR
VERSION:2.0
PRODID:-//PROBST WEIN - ECPv6.15.17.1//NONSGML v1.0//EN
CALSCALE:GREGORIAN
METHOD:PUBLISH
X-ORIGINAL-URL:https://probst-wein.de
X-WR-CALDESC:Veranstaltungen für PROBST WEIN
REFRESH-INTERVAL;VALUE=DURATION:PT1H
X-Robots-Tag:noindex
X-PUBLISHED-TTL:PT1H
BEGIN:VTIMEZONE
TZID:Europe/Berlin
BEGIN:DAYLIGHT
TZOFFSETFROM:+0100
TZOFFSETTO:+0200
TZNAME:CEST
DTSTART:20240331T010000
END:DAYLIGHT
BEGIN:STANDARD
TZOFFSETFROM:+0200
TZOFFSETTO:+0100
TZNAME:CET
DTSTART:20241027T010000
END:STANDARD
BEGIN:DAYLIGHT
TZOFFSETFROM:+0100
TZOFFSETTO:+0200
TZNAME:CEST
DTSTART:20250330T010000
END:DAYLIGHT
BEGIN:STANDARD
TZOFFSETFROM:+0200
TZOFFSETTO:+0100
TZNAME:CET
DTSTART:20251026T010000
END:STANDARD
BEGIN:DAYLIGHT
TZOFFSETFROM:+0100
TZOFFSETTO:+0200
TZNAME:CEST
DTSTART:20260329T010000
END:DAYLIGHT
BEGIN:STANDARD
TZOFFSETFROM:+0200
TZOFFSETTO:+0100
TZNAME:CET
DTSTART:20261025T010000
END:STANDARD
END:VTIMEZONE
BEGIN:VEVENT
DTSTART;TZID=Europe/Berlin:20251206T140000
DTEND;TZID=Europe/Berlin:20251206T200000
DTSTAMP:20260421T232214
CREATED:20250706T164633Z
LAST-MODIFIED:20250706T164633Z
UID:8273-1765029600-1765051200@probst-wein.de
SUMMARY:WEIN & SEIN
DESCRIPTION:verkosten – genießen – entspannt einkaufen\n \nHeute sind meine atmosphärischen PROBST WEIN-Verkostungsräume für alle geöffnet.  \nBei schönem Wetter könnt ihr auch den Innenhof\, Pavillion und meinen wild-romantischen Garten nutzen.  \nEigene Vesper darf mitgebracht werden! Probiert aus\, welcher Wein am Besten zu euren Leckerein passt.\n \nWählt aus dem vielfältigen Geschmacksregenbogen meiner PROBST WEINE aus. Für jeden Geschmack ist was dabei. Probiert es einfach in lockerer Atmosphäre aus. Ich begleite und berate euch! \n \nUnd bitte nicht vergessen: Brotzeit bringt ihr selber mit oder bestellt sie 3 Tage vorher nach Absprache bei mir. \nDer Eintritt ist frei. \nDie Weine werden nach dem Verkosten individuell abgerechnet.  \nGrößere Gruppen bitte vorher anmelden. \nIch freue mich auf genussvolle Stunden und gegenseitig inspirierende Gespräche bei WEIN & SEIN.  \nPROBST hat den WEIN – gemeinsam einfach SEIN! \nClaudia Fröse-Probst
URL:https://probst-wein.de/event/wein-sein-17/
LOCATION:PROBST WEIN\, MARKT NORDHEIM 95A\, MARKT NORDHEIM\, 91478\, Germany
CATEGORIES:WEIN & SEIN
ATTACH;FMTTYPE=image/jpeg:https://probst-wein.de/wp-content/uploads/2025/03/WEINSEIN_2-e1743019331803.jpg
ORGANIZER;CN="PROBST WEIN":MAILTO:post@probst-wein.de
END:VEVENT
BEGIN:VEVENT
DTSTART;TZID=Europe/Berlin:20251214T150000
DTEND;TZID=Europe/Berlin:20251214T190000
DTSTAMP:20260421T232214
CREATED:20250706T165025Z
LAST-MODIFIED:20251129T212917Z
UID:8276-1765724400-1765738800@probst-wein.de
SUMMARY:Advents-Fenster-Lichterfest zu WEIN & SEIN
DESCRIPTION:verkosten – genießen – entspannt einkaufen\n \nHeute sind meine atmosphärischen PROBST WEIN-Verkostungsräume  \nzum 14. Markt Nordheimer Adventsfenster 2025 für alle Licht-Genuss-Freudigen geöffnet. \n \nLasst euch überraschen\, welche Lichterinstallation ich mir ausdenke und mein Fenster zum Dorf illuminiere.  \nDer Eintritt ist frei\, doch freue ich mich\, wenn ihr an diesem besonderen Tag eine Kerze als Einlass-Licht mitbringt\, die wir dann mit aufstellen. \nEigene Vesper darf mitgebracht werden! Probiert aus\, welcher Wein am Besten zu euren Leckerein passt. \nWählt aus dem vielfältigen Geschmacksregenbogen meiner PROBST WEINE aus. An diesem Tag wird es auch Glühwein in verschiedenen Variationen geben!  \nFür jeden Geschmack ist was dabei. Probiert es einfach in lockerer Atmosphäre aus. Ich begleite und berate euch! \n \nUnd bitte nicht vergessen: Brotzeit bringt ihr selber mit oder bestellt sie 3 Tage vorher nach Absprache bei mir. \nDer Eintritt ist frei. \nDie Weine werden nach dem Verkosten individuell abgerechnet.  \nGrößere Gruppen bitte vorher anmelden. \nIch freue mich auf genussvolle Stunden und gegenseitig inspirierende Gespräche bei WEIN & SEIN.  \nPROBST hat den WEIN – gemeinsam einfach SEIN! \nClaudia Fröse-Probst
URL:https://probst-wein.de/event/advents-fenster-lichterfest-zu-wein-sein/
LOCATION:PROBST WEIN\, MARKT NORDHEIM 95A\, MARKT NORDHEIM\, 91478\, Germany
CATEGORIES:WEIN & SEIN
ATTACH;FMTTYPE=image/jpeg:https://probst-wein.de/wp-content/uploads/2025/03/WEINSEIN_2-e1743019331803.jpg
ORGANIZER;CN="PROBST WEIN":MAILTO:post@probst-wein.de
END:VEVENT
END:VCALENDAR