BEGIN:VCALENDAR
VERSION:2.0
PRODID:-//PROBST WEIN - ECPv6.15.17.1//NONSGML v1.0//EN
CALSCALE:GREGORIAN
METHOD:PUBLISH
X-WR-CALNAME:PROBST WEIN
X-ORIGINAL-URL:https://probst-wein.de
X-WR-CALDESC:Veranstaltungen für PROBST WEIN
REFRESH-INTERVAL;VALUE=DURATION:PT1H
X-Robots-Tag:noindex
X-PUBLISHED-TTL:PT1H
BEGIN:VTIMEZONE
TZID:Europe/Berlin
BEGIN:DAYLIGHT
TZOFFSETFROM:+0100
TZOFFSETTO:+0200
TZNAME:CEST
DTSTART:20240331T010000
END:DAYLIGHT
BEGIN:STANDARD
TZOFFSETFROM:+0200
TZOFFSETTO:+0100
TZNAME:CET
DTSTART:20241027T010000
END:STANDARD
BEGIN:DAYLIGHT
TZOFFSETFROM:+0100
TZOFFSETTO:+0200
TZNAME:CEST
DTSTART:20250330T010000
END:DAYLIGHT
BEGIN:STANDARD
TZOFFSETFROM:+0200
TZOFFSETTO:+0100
TZNAME:CET
DTSTART:20251026T010000
END:STANDARD
BEGIN:DAYLIGHT
TZOFFSETFROM:+0100
TZOFFSETTO:+0200
TZNAME:CEST
DTSTART:20260329T010000
END:DAYLIGHT
BEGIN:STANDARD
TZOFFSETFROM:+0200
TZOFFSETTO:+0100
TZNAME:CET
DTSTART:20261025T010000
END:STANDARD
END:VTIMEZONE
BEGIN:VEVENT
DTSTART;TZID=Europe/Berlin:20251003T200000
DTEND;TZID=Europe/Berlin:20251003T230000
DTSTAMP:20260422T020332
CREATED:20250319T112014Z
LAST-MODIFIED:20250928T150022Z
UID:6806-1759521600-1759532400@probst-wein.de
SUMMARY:PROBST WEINfeeling and Music mit Younee
DESCRIPTION:Den Augenblick genießen\, hören\, schmecken: Neue Wahrnehmung entfaltet sich!\nWas werden wir fühlen\, bei dieser exklusiven PROBST WEIN-Probe\, die Musik und Wein in einer bisher nie dagewesenen magischen Weise verbindet?  \n  \nEin einzigartiges Erlebnis erwartet euch in der Orangerie von Schloss Seehaus: Mit Claudias PROBST WEINEN und Younees zauberhaften Klangbildern erzählen wir Geschichten\, die im Moment gemeinsam mit den Genießern beim Wahrnehmen von Jazz & Wein entstehen. \n  \nhttps://probst-wein.de/wp-content/uploads/2025/09/Schwarz-Weiss-Modern-Dunkel-Aquarell-Veranstaltungen-Uebersicht-Instagram-Story-7680-x-3255-px-3600-x-3255-px-3600-x-3000-px-162-x-85-mm-A46.mp4\n  \n  \nhttps://probst-wein.de/wp-content/uploads/2025/09/CJLV0985.mp4\nYounee – international gefeierte Star-Pianistin\, bekannt für ihre markante Stimme in der modernen Improvisationskunst – komponiert jeden Klang intuitiv aus dem Moment heraus. Sie lässt sich durch die eingefangenen Sonnenstrahlen im Glas\, die Atmosphäre und die Menschen\, die diesen Abend mit uns teilen\, inspireren. Jeder Ton ist eine Überraschung\, jede Melodie ein einmaliger Ausdruck des Augenblicks. \n \nClaudia Fröse-Probst führt durch den Abend\, an dem Erinnerungen\, Klänge und kulinarische Sinneseindrücke zu einem „Gefühls-Cuvée“ verschmelzen\, das im Herzen lange nachklingen wird. Auch Hausherr Jan Kobow wird diesen besonderen Moment gesanglich bereichern. Es erwartet euch ein PROBST-Secco zur Begrüßung\, drei WEIN-Paare in der Blindverkostung sowie ein sonnenverwöhnter Dessertwein. Kulinarische kleine Häppchen sorgen zudem für ein gutes Bauchgefühl. \nDresscode: Festliche Abendgarderobe erwünscht. \n \n \nWEINfeeling mit Younee ab 20 Uhr\n85\,- Euro (für Mitglieder von Schloss Seehaus e.V. oder alkoholfrei 75\,- Euro)\n \nPaketpreis PROBST WEINfeeling-Event & Vorab-Konzert mit Younee.\n„Free Classic and Jazz im Konzertsaal“ ab 18 Uhr \n€95\,- Euro (für Mitglieder oder alkoholfrei 80\,- Euro)  \n \nPlatzreservierung bis 30. September 2025 – nach Eingang der Reservierung und Verfügbarkeit:\nTel. 09165 – 99 51 44\noder über FREE-Reservierungs-Button weiter unten. \n \nIhr bekommt eine Bestätigungsmail mit der Bitte um Rückmeldung\, ob ihr\n1) Mitglied von Schloss Seehaus e.V. seid\,\n2) den Paketpreis mit Konzert ab 18 Uhr nutzen möchtet und\n3) ggf. die alkoholfreie Variante wünscht. \nDanach erhaltet ihr eine Rechnung mit dem gesamten individuellen Rechnungsbetrag für die gewünschte Anzahl eurer Plätze. \n \nErst nach Vorabüberweisung sind die Plätze dann verbindlich gebucht.  \nEs ist keine Rückerstattung möglich. Bei Stornierung bis zum 30. September 2025 wird ein PROBST WEIN-Gutschein in Höhe des überwiesenen Betrages ausgestellt\, der innerhalb von 12 Monaten bei PRBOST WEIN eingelöst werden kann. \nOnline Ticketbuchung aktuell nicht möglich!\nBitte Reservierungsbutten nutzen!
URL:https://probst-wein.de/event/probst-weinfeeling-and-music-mit-younee/
LOCATION:Schloss Seehaus\, Seehaus 6\, 91478 Markt Nordheim\, Franken\, 91478\, Germany
CATEGORIES:Schloss Seehaus Events,WEINfeeling-Events
ATTACH;FMTTYPE=image/jpeg:https://probst-wein.de/wp-content/uploads/2025/05/Younee-Profile-Standing-5-scaled-e1758921546412.jpg
ORGANIZER;CN="PROBST WEIN":MAILTO:post@probst-wein.de
END:VEVENT
BEGIN:VEVENT
DTSTART;TZID=Europe/Berlin:20251005T140000
DTEND;TZID=Europe/Berlin:20251005T170000
DTSTAMP:20260422T020332
CREATED:20250923T095426Z
LAST-MODIFIED:20250923T200903Z
UID:8465-1759672800-1759683600@probst-wein.de
SUMMARY:Lesung mit Jan Kobow zur Weinlese im PROBST-Weinberg
DESCRIPTION:Oh was für ein wundervoller Abschluss meiner PROBST WEIN Lese am Erntedank-Sonntag 2025!  \nWir feiern gemeinsam \nmit Jan Kobow\, der um 15 Uhr alte Texte über Schloss Seehaus und „Wein und die Muße“ von Goethe vorlesen wird. \nNach der erfolgreichen Weinlese und der fantastischen Konzert-Saison wird diese besondere „Lesung“ als Premieren-Veranstaltung in diesem Format im Markt Nordheimer Weinberg stattfinden. Nur bei Regenwetter wird die Veranstaltung in die Orangerie von Schloss Seehaus verlegt. \nWir sammeln an diesem Nachmittag Spenden für den Schloss Seehaus Verein\, damit Musik\, Kunst & Genuss in Schloss Seehaus weiter kultiviert werden können! \nEintritt frei – Spenden erbeten\nLasst euch überraschen: \n\nwundervolle Texte von Jan Kobow und spannende Geschichten rund um den Wein von mir hören\nleckeren PROBST WEIN und natürlich Federweißer trinken\nund … ganz viele interessante Menschen kennenlernen und tolle Gespräche führen\, um das Weinjahr und die Schloss Seehaus Saison im Weinberg ausklingen zu lassen.\n\nAnmeldung\nWir bitten um Anmeldung telefonisch\, per eMail oder unter dem Reservierungs-Butten weiter unten\, damit wir entsprechend Sitzmöglichkeiten\, Gläser und Getränke in den Weinberg zur Vorbereitung mitbringen können. Ansonsten bitte Vesper und Stühle gerne selber mitbringen! So wie immer bei allen WEIN & SEIN – Veranstaltungen bei PROBST WEIN!  \nAuch können wir uns dann bei euch melden\, um euch den genauen Standort der Veranstaltung je nach Witterung zu zuschicken.  \nWir freuen uns auf euch!
URL:https://probst-wein.de/event/lesung-mit-jan-kobow-zur-weinlese-im-probst-weinberg/
LOCATION:PROBST WEIN\, MARKT NORDHEIM 95A\, MARKT NORDHEIM\, 91478\, Germany
CATEGORIES:Schloss Seehaus Events,WEIN & SEIN,WEINfeeling-Events
ATTACH;FMTTYPE=image/jpeg:https://probst-wein.de/wp-content/uploads/2025/09/Lesung_Weinlese-e1758623390741.jpg
ORGANIZER;CN="PROBST WEIN":MAILTO:post@probst-wein.de
END:VEVENT
END:VCALENDAR