BEGIN:VCALENDAR
VERSION:2.0
PRODID:-//PROBST WEIN - ECPv6.15.17.1//NONSGML v1.0//EN
CALSCALE:GREGORIAN
METHOD:PUBLISH
X-WR-CALNAME:PROBST WEIN
X-ORIGINAL-URL:https://probst-wein.de
X-WR-CALDESC:Veranstaltungen für PROBST WEIN
REFRESH-INTERVAL;VALUE=DURATION:PT1H
X-Robots-Tag:noindex
X-PUBLISHED-TTL:PT1H
BEGIN:VTIMEZONE
TZID:Europe/Berlin
BEGIN:DAYLIGHT
TZOFFSETFROM:+0100
TZOFFSETTO:+0200
TZNAME:CEST
DTSTART:20240331T010000
END:DAYLIGHT
BEGIN:STANDARD
TZOFFSETFROM:+0200
TZOFFSETTO:+0100
TZNAME:CET
DTSTART:20241027T010000
END:STANDARD
BEGIN:DAYLIGHT
TZOFFSETFROM:+0100
TZOFFSETTO:+0200
TZNAME:CEST
DTSTART:20250330T010000
END:DAYLIGHT
BEGIN:STANDARD
TZOFFSETFROM:+0200
TZOFFSETTO:+0100
TZNAME:CET
DTSTART:20251026T010000
END:STANDARD
BEGIN:DAYLIGHT
TZOFFSETFROM:+0100
TZOFFSETTO:+0200
TZNAME:CEST
DTSTART:20260329T010000
END:DAYLIGHT
BEGIN:STANDARD
TZOFFSETFROM:+0200
TZOFFSETTO:+0100
TZNAME:CET
DTSTART:20261025T010000
END:STANDARD
END:VTIMEZONE
BEGIN:VEVENT
DTSTART;TZID=Europe/Berlin:20251018T100000
DTEND;TZID=Europe/Berlin:20251019T130000
DTSTAMP:20260422T032731
CREATED:20250907T160607Z
LAST-MODIFIED:20250928T193731Z
UID:8359-1760781600-1760878800@probst-wein.de
SUMMARY:VITA-VINO-VERITAS Wochenende mit Renate Köckeis und Claudia Fröse-Probst
DESCRIPTION:WEIN-Seele-Genuss\nWochenende\nfür Körper\, Sinn & Sein\nZusammen mit meiner Freundin und erfahrenen wundervollen Lebensbegleiterin Renate lade ich euch ein\, mein PROBST WEINfeeling \n \nin bewegend reflektierender einzigartiger Weise an einem Wochenende zu erleben.  \n \nSamstag Ab 10 Uhr\n„VITA in VERITAS“ mit Renate\nFreut euch auf einfühlsam begleitete Energie-\, Tanz- und Interaktionsforschung mit Renate Köckeis im Panoramaraum und im PROBST-Garten. \n\nWer bist du\, wenn du tief in dich hineinlauschst?\nWas möchte seelisch zur vollen Reife gelangen?\nWas sind deine Sinnfragen zu einem authentischen lebendigen Leben in deiner eigenen Wahrheit?\n\n \nSamstag Nachmittag\n„VINO VERITAS“ mit Claudia\nIch berichte von meinem Weg zum PROBST WEINfeeling und lade dich ein\, auch für dich im Symbol des Weines Inspiration und Mut zu finden. Elemente aus meinem Seelensport® lasse ich dabei mit Bewegung und Musik einfließen. \n\nLässt sich die Wahrheit im Wein finden? Wie geht dies auf eine gute Art und Weise?\nWas mag ich und was tut mir wirklich gut? Kann ich es fühlen?\nWie komme ich mit „Weinen“ durch wüste Zeiten?\n\nSamstag ab 19 Uhr\nEinladung zum Fest der Fülle & des Lebens\nzu „WEIN & SEIN“\nMitbring-Buffett\, Genuss-Tasting\, Feuer\, Traubensaft und Wein\nGetränke werden separat abgerechnet. \nab  \n\nSONNTAG Ab 9:00 Uhr\nBewegt-Gefühlter SonntagsBRUNCH\nzur Woche\nDer Seelischen Gesundheit\nIm Rahmen der Woche der Seelischen Gesundheit (Aktionsbündnis Seelische Gesundheit) laden wir auch weitere Interessierte zum bewegt-gefühlten Sonntagsbrunch nach unserem VITA-VINO-VERITAS Tag zum Nachklingen ein. \n9:00 -10:30 Uhr Angeleitetes bewusstes Spüren\, Schmecken und Verwurzeln der Dinge\, die uns gut tun mit Renate und Claudia\, in Bewegung und Ruhe – bei schönem Wetter im Weinberg!\nab 10:30 Uhr Gemeinsamer Sonntagsbrunch für Herz & Seele\nEnde 13 Uhr  \nUnkostenbeitrag: 30\,00 Euro (incl. Getränke und Frühstücksbuffett) \nOb mitten im Weinberg\, im Garten oder im geschützten PROBST-Panorama-Raum – du bist herzlich eingeladen\, dich zu spüren\, dich zu sortieren und durchzuatmen. Die Natur rund um den Wein hilft auf wunderbare Weise im Augenblick anzukommen. \n \n  \nDetails\nZUM\nVITA-VINO-Veritas\nWochenende\n18./19. Oktober 2025\nKosten bei Buchung einzelner Tage: Samstag 140\,00 Euro und Sonntag 30\,00 Euro \nSei-Spontan-Preis für nur Samstag-Teilnahme: 125\,00 Euro (bei Anmeldung bis zum 30. September 2025) \n2-Tages-Paket-Preis: 155\,00 Euro (incl. Sonntags-Brunch-Buffett) \nInklusive: Begrüßungs-PROBST-Secco (mit und ohne Alkohol)\, Wasser\, Tee- und Kaffeepause\, Mittags-Suppe sowie einem kleinen Snack. \nTeilnehmerzahl: max. 8 Personen \nWir bitten um Reservierung. Eine Online-Buchung ist aktuell leider nicht möglich. Bezahlung vorab nach online-Rechung oder bar vor Ort. \nZusätzliche Infos:\nEine Anreise ist am Freitag bereits möglich. Die Teilnahme zu WEIN & SEIN am Freitagabend am Weingut ist kostenfrei – Vesper bitte mitbringen! \nWohnmobil- und Zeltstellplätze stehen im Garten zur Verfügung. Matratzenlager im Panoramaraum auf Anfrage. \nZimmer und Ferienwohnungen können bei Bedarf vermittelt werden. \n_______ \nIn meinen WEINfeeling-Veranstaltungen erlebst du mit mir als Gesundheitsförderin und Weinmacherin\, wie du dein WEIN- und Lebensfeeling im Alltag lebensweltorientiert und achtsam mehr Raum geben kannst. Unter WEIN – GUT- LEBEN! biete ich weitere PROBST Events\, Wüstenreisen\, Impulsveranstaltungen oder interaktive Tagesworkshops im Rahmen der Gesundheitsförderung an.  \nEine Übersicht findet ihr auch unter meinem Whatsapp-business-Account unter der Tel.-Nr. 09165995144. \nBei Interesse bitte email an: weinfeeling@probst-wein.de. Ich melde mich dann für weitere Infos und zur Auftragsklärung.
URL:https://probst-wein.de/event/vita-vino-veritas-wochenende-mit-renate-koeckeis-und-claudia-froese-probst/
LOCATION:PROBST WEIN\, MARKT NORDHEIM 95A\, MARKT NORDHEIM\, 91478\, Germany
CATEGORIES:SeelenSport®,WEINfeeling-Events
ATTACH;FMTTYPE=image/jpeg:https://probst-wein.de/wp-content/uploads/2025/09/Schwarz-Weiss-Modern-Dunkel-Aquarell-Veranstaltungen-Uebersicht-Instagram-Story-7680-x-3255-px-3600-x-3255-px-3600-x-3000-px-162-x-85-mm6-e1757763228288.jpg
ORGANIZER;CN="PROBST WEIN":MAILTO:post@probst-wein.de
END:VEVENT
END:VCALENDAR