BEGIN:VCALENDAR
VERSION:2.0
PRODID:-//PROBST WEIN - ECPv6.15.17.1//NONSGML v1.0//EN
CALSCALE:GREGORIAN
METHOD:PUBLISH
X-WR-CALNAME:PROBST WEIN
X-ORIGINAL-URL:https://probst-wein.de
X-WR-CALDESC:Veranstaltungen für PROBST WEIN
REFRESH-INTERVAL;VALUE=DURATION:PT1H
X-Robots-Tag:noindex
X-PUBLISHED-TTL:PT1H
BEGIN:VTIMEZONE
TZID:Europe/Berlin
BEGIN:DAYLIGHT
TZOFFSETFROM:+0100
TZOFFSETTO:+0200
TZNAME:CEST
DTSTART:20250330T010000
END:DAYLIGHT
BEGIN:STANDARD
TZOFFSETFROM:+0200
TZOFFSETTO:+0100
TZNAME:CET
DTSTART:20251026T010000
END:STANDARD
BEGIN:DAYLIGHT
TZOFFSETFROM:+0100
TZOFFSETTO:+0200
TZNAME:CEST
DTSTART:20260329T010000
END:DAYLIGHT
BEGIN:STANDARD
TZOFFSETFROM:+0200
TZOFFSETTO:+0100
TZNAME:CET
DTSTART:20261025T010000
END:STANDARD
BEGIN:DAYLIGHT
TZOFFSETFROM:+0100
TZOFFSETTO:+0200
TZNAME:CEST
DTSTART:20270328T010000
END:DAYLIGHT
BEGIN:STANDARD
TZOFFSETFROM:+0200
TZOFFSETTO:+0100
TZNAME:CET
DTSTART:20271031T010000
END:STANDARD
END:VTIMEZONE
BEGIN:VEVENT
DTSTART;TZID=Europe/Berlin:20260314T140000
DTEND;TZID=Europe/Berlin:20260314T163000
DTSTAMP:20260421T201644
CREATED:20250307T132404Z
LAST-MODIFIED:20260308T221507Z
UID:6195-1773496800-1773505800@probst-wein.de
SUMMARY:"FÜHL DICH ...." - SeelenSport®-Schnupperstunde
DESCRIPTION:Bring dich und deine Gefühle sanft in Bewegung. \nIm PROBST-Panorama-Raum mit Schwingboden mit wunderbarem Ausblick zum Einblick nach Innen. \n \nDiese drei Stunden schenken dir eine Auszeit vom Alltag und bieten dir einen geschützen Wohlfühl-Raum und Rahmen für Dich und Deine Gefühle.  \nEin persönliches 20-minütiges Telefonat/Gespräch vorab ist inclusive\, um zu klären\, ob das Training\, das richtige für dich ist. Bitte vereinbare dazu einfach ein Telefonat/Gespräch mit mir.  \nEs ist zudem möglich die Schnupperstunde mit einem SeelenSport®-Einzeltermin vorher oder auch am folgenden Tag danach zu ergänzen.  \nIch begleite dich dabei\, mit den wunderbaren Übungen von SeelenSport® in dich hineinzuspüren. Das Training stärkt gleichermaßen die bewusste Körperwahrnehmung und seelische Gesundheit durch spezielle Übungen\, die deiner aktuellen körperlichen Verfassung ganz individuell angepasst werden können. \n \nAchtsamkeit für Körper und Geist\nIn dieser Schnupper-Stunde geht es darum\, deine Wahrnehmung mit allen Sinnen zu vertiefen und sich intensiver oder einfach überhaupt wieder einmal gut zu fühlen. Nimm ein paar Inspirationen und Übungen auch für zu Hause mit. \nEntdecke neue Perspektiven \nIn meinen WEINfeeling-Veranstaltungen erlebst du mit mir als Gesundheitsförderin und Weinmacherin\, wie du dein WEIN- und Lebensfeeling im Alltag lebensweltorientiert und achtsam mehr Raum geben kannst. Lass dich inspirieren und erlebe hautnah das PROBST WEINfeeling. \nDetails zur Schnupperstunde: \n\n\nKosten: 55 Euro \n\nInklusive: 1 kleines Glas PROBST WEIN gerne auch Secco promillefrei Traubensaft und Wasser\n\nTeilnehmerzahl: max. 5 Personen \n\n\nZusätzliche Infos: \n\nZum Ausklang lade ich zur gemeinsamen Vesper in meine Verkostungsräume ein. Gerne auch eigenes Abendbrot mitbringen!\n\nWohnmobilstellplätze stehen zur Verfügung \n\n\nZimmer und Ferienwohnung kann bei Bedarf vermietet oder vermittelt werden. \n\n\n_______ \nMein Konzept WEINfeeling biete ich auch im Zusammenhang mit weiteren PROBST Events\, Wüstenreisen\, Gesundheitsförderungsprojekten als Impulsveranstaltung oder als interaktive Tagesworkshops an.\nEs verbindet die lebensweltorientierten Ansätze von  risflecting® und SeelenSport®. \nBei Interesse bitte email an: weinfeeling@probst-wein.de. Ich melde mich dann für weitere Infos und zur Auftragsklärung.
URL:https://probst-wein.de/event/fuehl-dich-seelensport-schnupperstunde/
LOCATION:PROBST WEIN\, MARKT NORDHEIM 95A\, MARKT NORDHEIM\, 91478\, Germany
CATEGORIES:SeelenSport®,WEINfeeling-Events
ATTACH;FMTTYPE=image/jpeg:https://probst-wein.de/wp-content/uploads/2025/03/Schwarz-Weiss-Modern-Dunkel-Aquarell-Veranstaltungen-Uebersicht-Instagram-Story-7680-x-3255-px-3600-x-3255-px-3600-x-3000-px-162-x-85-mm5-e1749910539802.jpg
ORGANIZER;CN="PROBST WEIN":MAILTO:post@probst-wein.de
END:VEVENT
END:VCALENDAR